{"text_format":"1","workbook":"xlsx","n_sheets":9,"sheets":["メニュー","管理メニュー","契約情報の入力","入力内容の確認","帳票リスト","CSV_WORK","入力規則マスタ","Working","→"],"not_rendered":{"charts":0,"images":0,"macros":1,"external_links":0,"defined_names":8,"comments":0,"pivot_tables":0},"unopened":[],"bounds":{"document_bytes":16777216,"sheet_cells":100000,"rows_first":2000,"rows_last":500,"rows_between":2000,"halvings":0,"cell_chars":16384,"cell_head_chars":4096},"cells_cut":0,"cells_raw":0,"read":"whole","date_system":"1900"}

{"sheet":"メニュー","index":0,"n_rows":10,"n_cols":16,"rows_kept":10,"cut":false,"hidden":false,"merged":[[4,15,4,28]]}
[]
[null,"電力使用状況調査票 作成メニュー"]
[]
[]
[null,null,null,null,null,null,null,null,null,null,null,null,null,null,null,"電力使用状況調査票を作成します。"]
[]
[]
[]
[]
[null,"※ 作成済みの電力使用状況調査票を編集・削除をしたい場合は対象シートに移動して、操作してください。"]

{"sheet":"管理メニュー","index":1,"n_rows":12,"n_cols":16,"rows_kept":12,"cut":false,"hidden":true,"merged":[[4,15,4,31],[9,15,9,31],[10,15,10,31],[11,15,11,31]]}
[]
[null,"電力使用状況調査票 管理メニュー"]
[]
[]
[null,null,null,null,null,null,null,null,null,null,null,null,null,null,null,"作成済みの調査票をリスト化して表示します。"]
[]
[]
[]
[]
[null,null,null,null,null,null,null,null,null,null,null,null,null,null,null,"作成済みの調査票からツール連携用のCSVを出力します。"]
[null,null,null,null,null,null,null,null,null,null,null,null,null,null,null," ※ リスト表示マクロ実行後のみ、正常動作します。"]
[null,null,null,null,null,null,null,null,null,null,null,null,null,null,null," 　  詳細な操作手順については、マニュアルを参照ください。"]

{"sheet":"契約情報の入力","index":2,"n_rows":79,"n_cols":68,"rows_kept":79,"cut":false,"hidden":true,"merged":[[65,62,65,66],[65,67,65,71],[65,12,65,16],[65,17,65,21],[65,22,65,26],[65,27,65,31],[65,32,65,36],[65,37,65,41],[65,42,65,46],[65,47,65,51],[65,52,65,56],[63,62,63,66],[63,67,63,71],[64,12,64,16],[64,17,64,21],[64,22,64,26],[64,27,64,31],[64,32,64,36],[64,37,64,41],[64,42,64,46],[64,47,64,51],[64,52,64,56],[64,57,64,61],[64,62,64,66],[64,67,64,71],[63,12,63,16],[63,17,63,21],[63,22,63,26],[63,27,63,31],[63,32,63,36],[63,37,63,41],[63,42,63,46],[63,47,63,51],[63,52,63,56],[57,42,57,46],[57,47,57,51],[57,52,57,56],[57,57,57,61],[57,62,57,66],[57,67,57,71],[62,32,62,36],[62,37,62,41],[62,42,62,46],[62,57,62,61],[62,62,62,66],[62,67,62,71],[60,67,60,71],[61,52,61,56],[61,57,61,61],[61,62,61,66],[61,67,61,71],[60,32,60,36],[60,37,60,41],[60,42,60,46],[60,47,60,51],[60,52,60,56],[60,57,60,61],[60,62,60,66],[35,62,35,66],[35,67,35,71],[35,37,35,41],[53,57,53,61],[53,62,53,66],[53,67,53,71],[56,42,56,46],[56,47,56,51],[56,52,56,56],[56,57,56,61],[56,62,56,66],[56,67,56,71],[54,52,54,56],[54,57,54,61],[54,62,54,66],[54,67,54,71],[55,57,55,61],[55,62,55,66],[55,67,55,71],[36,37,36,41],[36,42,36,46],[36,47,36,51],[36,52,36,56],[36,57,36,61],[30,62,30,66],[30,67,30,71],[31,52,31,56],[31,57,31,61],[31,62,31,66],[31,67,31,71],[30,42,30,46],[30,47,30,51],[30,52,30,56],[30,57,30,61],[36,62,36,66],[36,67,36,71],[52,57,52,61],[52,62,52,66],[52,67,52,71],[6,2,6,14],[7,2,7,14],[6,15,6,39],[7,15,7,39],[18,13,18,18],[20,13,20,18],[18,34,18,39],[11,31,11,35],[11,36,11,47],[12,31,12,35],[12,36,12,47],[10,31,10,41],[18,2,18,12],[20,2,20,12],[18,23,18,33],[12,15,12,24],[12,2,12,14],[13,2,13,14],[14,2,14,14],[10,42,10,47],[30,32,30,36],[19,34,19,37],[19,38,19,39],[13,19,13,20],[14,19,14,20],[13,15,13,18],[14,15,14,18],[19,23,19,33],[27,2,27,12],[27,13,27,22],[21,13,21,16],[21,17,21,18],[26,2,26,12],[26,13,26,16],[26,17,26,18],[21,2,21,12],[30,37,30,41],[30,12,30,16],[30,17,30,21],[30,22,30,26],[30,27,30,31],[31,2,31,11],[31,12,31,16],[31,17,31,21],[31,22,31,26],[31,27,31,31],[31,32,31,36],[31,37,31,41],[31,42,31,46],[31,47,31,51],[35,12,35,16],[35,17,35,21],[35,22,35,26],[35,27,35,31],[35,32,35,36],[36,2,36,11],[36,12,36,16],[36,17,36,21],[36,22,36,26],[36,27,36,31],[36,32,36,36],[35,42,35,46],[35,47,35,51],[35,52,35,56],[35,57,35,61],[40,67,40,71],[41,2,41,11],[41,12,41,16],[41,17,41,21],[41,22,41,26],[41,27,41,31],[41,32,41,36],[41,37,41,41],[41,42,41,46],[41,47,41,51],[41,52,41,56],[41,57,41,61],[41,62,41,66],[41,67,41,71],[40,37,40,41],[40,42,40,46],[40,47,40,51],[40,52,40,56],[40,57,40,61],[40,12,40,16],[40,62,40,66],[44,52,44,56],[44,2,44,11],[44,12,44,16],[44,17,44,21],[44,22,44,26],[44,27,44,31],[42,57,42,61],[42,62,42,66],[40,17,40,21],[40,22,40,26],[40,27,40,31],[40,32,40,36],[42,42,42,46],[42,47,42,51],[42,52,42,56],[42,2,42,11],[42,12,42,16],[42,17,42,21],[42,22,42,26],[42,27,42,31],[46,57,46,61],[46,62,46,66],[42,67,42,71],[43,2,43,11],[43,12,43,16],[43,17,43,21],[43,22,43,26],[43,27,43,31],[43,32,43,36],[43,37,43,41],[43,42,43,46],[43,47,43,51],[43,52,43,56],[43,57,43,61],[43,62,43,66],[43,67,43,71],[42,32,42,36],[42,37,42,41],[44,57,44,61],[44,62,44,66],[44,67,44,71],[45,2,45,11],[45,12,45,16],[45,17,45,21],[45,22,45,26],[45,27,45,31],[45,32,45,36],[45,37,45,41],[45,42,45,46],[45,47,45,51],[45,52,45,56],[45,57,45,61],[45,62,45,66],[45,67,45,71],[44,32,44,36],[44,37,44,41],[44,42,44,46],[44,47,44,51],[46,67,46,71],[47,2,47,11],[47,12,47,16],[47,17,47,21],[47,22,47,26],[47,27,47,31],[47,32,47,36],[47,37,47,41],[47,42,47,46],[47,47,47,51],[47,52,47,56],[47,57,47,61],[47,62,47,66],[47,67,47,71],[46,32,46,36],[46,37,46,41],[46,42,46,46],[46,47,46,51],[46,52,46,56],[46,2,46,11],[46,12,46,16],[46,17,46,21],[46,22,46,26],[46,27,46,31],[48,62,48,66],[48,67,48,71],[49,2,49,11],[49,12,49,16],[49,17,49,21],[49,22,49,26],[49,27,49,31],[49,32,49,36],[49,37,49,41],[49,42,49,46],[49,47,49,51],[49,52,49,56],[49,57,49,61],[49,62,49,66],[49,67,49,71],[48,32,48,36],[48,37,48,41],[48,42,48,46],[48,47,48,51],[48,57,48,61],[48,27,48,31],[52,2,52,11],[52,12,52,16],[52,17,52,21],[52,22,52,26],[52,27,52,31],[50,57,50,61],[50,27,50,31],[48,52,48,56],[48,2,48,11],[48,12,48,16],[48,17,48,21],[48,22,48,26],[50,42,50,46],[50,47,50,51],[50,52,50,56],[50,2,50,11],[50,12,50,16],[50,17,50,21],[50,22,50,26],[50,62,50,66],[50,67,50,71],[51,2,51,11],[51,12,51,16],[51,17,51,21],[51,22,51,26],[51,27,51,31],[51,32,51,36],[51,37,51,41],[51,42,51,46],[51,47,51,51],[51,52,51,56],[51,57,51,61],[51,62,51,66],[51,67,51,71],[50,32,50,36],[50,37,50,41],[54,2,54,11],[54,12,54,16],[54,17,54,21],[54,22,54,26],[54,27,54,31],[53,2,53,11],[53,12,53,16],[53,17,53,21],[53,22,53,26],[53,27,53,31],[53,32,53,36],[53,37,53,41],[53,42,53,46],[53,47,53,51],[53,52,53,56],[52,32,52,36],[52,37,52,41],[56,12,56,16],[56,17,56,21],[56,22,56,26],[56,27,56,31],[55,52,55,56],[54,32,54,36],[54,37,54,41],[54,42,54,46],[54,47,54,51],[56,32,56,36],[56,37,56,41],[52,42,52,46],[52,47,52,51],[52,52,52,56],[55,2,55,11],[55,12,55,16],[55,17,55,21],[55,22,55,26],[55,27,55,31],[55,32,55,36],[55,37,55,41],[55,42,55,46],[55,47,55,51],[58,22,58,26],[58,27,58,31],[57,2,57,11],[57,12,57,16],[57,17,57,21],[57,22,57,26],[57,27,57,31],[57,32,57,36],[57,37,57,41],[58,17,58,21],[56,2,56,11],[58,57,58,61],[58,62,58,66],[58,67,58,71],[59,2,59,11],[59,12,59,16],[59,17,59,21],[59,22,59,26],[59,27,59,31],[59,32,59,36],[59,37,59,41],[59,42,59,46],[59,47,59,51],[59,52,59,56],[59,57,59,61],[59,62,59,66],[59,67,59,71],[58,32,58,36],[58,37,58,41],[58,42,58,46],[58,47,58,51],[58,52,58,56],[58,2,58,11],[58,12,58,16],[60,2,60,11],[60,12,60,16],[60,17,60,21],[60,22,60,26],[60,27,60,31],[62,47,62,51],[62,52,62,56],[62,2,62,11],[62,12,62,16],[62,17,62,21],[62,22,62,26],[62,27,62,31],[61,2,61,11],[61,12,61,16],[61,17,61,21],[61,22,61,26],[61,27,61,31],[61,32,61,36],[61,37,61,41],[61,42,61,46],[61,47,61,51],[64,2,64,11],[63,2,63,11],[65,2,65,11],[69,57,69,61],[69,12,69,16],[69,17,69,21],[69,22,69,26],[69,27,69,31],[69,32,69,36],[63,57,63,61],[65,57,65,61],[71,2,71,11],[71,12,71,16],[71,17,71,21],[71,22,71,26],[71,27,71,31],[69,62,69,66],[69,67,69,71],[70,2,70,11],[70,12,70,16],[70,17,70,21],[70,22,70,26],[70,27,70,31],[70,32,70,36],[70,37,70,41],[70,42,70,46],[70,47,70,51],[70,52,70,56],[70,57,70,61],[70,62,70,66],[70,67,70,71],[69,37,69,41],[69,42,69,46],[69,47,69,51],[69,52,69,56],[72,52,72,56],[72,57,72,61],[72,62,72,66],[72,67,72,71],[71,32,71,36],[71,37,71,41],[71,42,71,46],[71,47,71,51],[71,52,71,56],[72,2,72,11],[72,12,72,16],[72,17,72,21],[72,22,72,26],[72,27,72,31],[72,32,72,36],[72,37,72,41],[72,42,72,46],[72,47,72,51],[73,57,73,61],[73,62,73,66],[73,67,73,71],[10,2,10,14],[10,15,10,24],[11,2,11,14],[19,17,19,18],[19,13,19,16],[19,2,19,12],[11,15,11,24],[24,2,24,41],[73,32,73,36],[73,37,73,41],[73,42,73,46],[73,47,73,51],[73,52,73,56],[73,2,73,11],[73,12,73,16],[73,17,73,21],[73,22,73,26],[73,27,73,31],[71,57,71,61],[71,62,71,66],[71,67,71,71]]}
[]
[1,"電力使用状況調査票 契約情報の入力"]
[1]
[1]
[1]
[1,"■ 需要場所情報"]
[1,null,"需要場所名称"]
[1,null,"需要場所住所"]
[1]
[1,"■ 主契約情報",null,null,null,null,null,null,null,null,null,null,null,null,null,null,null,null,null,null,null,null,null,null,null,null,null,null,null,null,"■ 割引サービス"]
[1,null,"供給電力会社エリア",null,null,null,null,null,null,null,null,null,null,null,null,null,null,null,null,null,null,null,null,null,null,null,null,null,null,null,null,"割引サービス有無",null,null,null,null,null,null,null,null,null,null,"なし"]
[1,null,"契約種別 (一般的なメニュー名) ※",null,null,null,null,null,null,null,null,null,null,null,null,null,null,null,null,null,null,null,null,null,null,null,null,null,null,null,null,"割引名称"]
[1,null,"契約種別 (電力量区分)",null,null,null,null,null,null,null,null,null,null,null,null,null,null,null,null,null,null,null,null,null,null,null,null,null,null,null,null,"割引金額 ※"]
[1,null,"受電電圧",null,null,null,null,null,null,null,null,null,null,null,null,null,null,null,null,"kV",null,null,null,null,null,null,null,null,null,null,null,"※ 年間割引金額 (税込) の合計をご記入ください。"]
[1,null,"契約電力",null,null,null,null,null,null,null,null,null,null,null,null,null,null,null,null,"kW"]
[1,null,"※ 請求書に記載されている契約名称をご記入ください。"]
[1]
[1,"■ 付帯契約"]
[1,null,"予備線契約有無",null,null,null,null,null,null,null,null,null,null,"なし",null,null,null,null,null,null,null,null,null,"自家発補給契約有無",null,null,null,null,null,null,null,null,null,null,"なし"]
[1,null,"予備線契約電力",null,null,null,null,null,null,null,null,null,null,null,null,null,null,"kW",null,null,null,null,null,"自家発補給契約電力",null,null,null,null,null,null,null,null,null,null,null,null,null,null,"kW"]
[1,null,"予備電源契約有無",null,null,null,null,null,null,null,null,null,null,"なし"]
[1,null,"予備電源契約電力",null,null,null,null,null,null,null,null,null,null,null,null,null,null,"kW"]
[1]
[{"$f":"IF($P$15>499,1,0)","v":0},"■ 確認事項"]
[{"$f":"IF($P$15>499,1,0)","v":0},null,"契約電力が500kW以上のお客様で過去1年間以内に契約電力を上げている場合、ご記入ください。"]
[0]
[0,null,"変更前の契約電力",null,null,null,null,null,null,null,null,null,null,null,null,null,null,"kW"]
[0,null,"契約変更日"]
[0]
[1,"■ 力率 ※"]
[1,null,null,null,null,null,null,null,null,null,null,null,"4月",null,null,null,null,"5月",null,null,null,null,"6月",null,null,null,null,"7月",null,null,null,null,"8月",null,null,null,null,"9月",null,null,null,null,"10月",null,null,null,null,"11月",null,null,null,null,"12月",null,null,null,null,"1月",null,null,null,null,"2月",null,null,null,null,"3月"]
[1,null,"力率(%)",null,null,null,null,null,null,null,null,null,100,null,null,null,null,100,null,null,null,null,100,null,null,null,null,100,null,null,null,null,100,null,null,null,null,100,null,null,null,null,100,null,null,null,null,100,null,null,null,null,100,null,null,null,null,100,null,null,null,null,100,null,null,null,null,100]
[1,null,"※ 概ね力率が95%未満の場合については、ご記入ください。"]
[1]
[1,"■ 各月の最大使用電力"]
[1,null,null,null,null,null,null,null,null,null,null,null,"4月",null,null,null,null,"5月",null,null,null,null,"6月",null,null,null,null,"7月",null,null,null,null,"8月",null,null,null,null,"9月",null,null,null,null,"10月",null,null,null,null,"11月",null,null,null,null,"12月",null,null,null,null,"1月",null,null,null,null,"2月",null,null,null,null,"3月"]
[1,null,"各月の最大使用電力(kW)"]
[1,null,"※ 各月の最大使用電力が契約電力以下の場合は記入不要です"]
[1]
[1,"■ 月別使用電力量 ※"]
[1,null,null,null,null,null,null,null,null,null,null,null,"4月",null,null,null,null,"5月",null,null,null,null,"6月",null,null,null,null,"7月",null,null,null,null,"8月",null,null,null,null,"9月",null,null,null,null,"10月",null,null,null,null,"11月",null,null,null,null,"12月",null,null,null,null,"1月",null,null,null,null,"2月",null,null,null,null,"3月"]
[{"$f":"IF(OR($P$13=\"\",$P$11=\"\"),1,IF(AND($P$13=\"不明\",$P$11<>\"北海道電力\"),1,IF(AND($P$11<>\"北海道電力\",$P$13=\"標準\"),1,0)))","v":1},null,"夏季 (kWh)"]
[{"$f":"IF(OR($P$13=\"\",$P$11=\"\"),1,IF(AND($P$13=\"不明\",$P$11<>\"北海道電力\"),1,IF(AND($P$11<>\"北海道電力\",$P$13=\"標準\"),1,0)))","v":1},null,"その他季 (kWh)"]
[{"$f":"IF(OR($P$13=\"\",$P$11=\"\"),0,IF(OR($P$13=\"不明\",$P$11=\"北海道電力\"),0,IF(AND($P$13=\"時間帯別\",$P$11<>\"中部電力\",$P$11<>\"関西電力\"),1,0)))","v":0},null,"ピーク (kWh)"]
[{"$f":"IF(OR($P$13=\"\",$P$11=\"\"),0,IF(OR($P$13=\"不明\",$P$11=\"北海道電力\"),0,IF(AND($P$13=\"時間帯別\",$P$11<>\"中部電力\",$P$11<>\"関西電力\"),1,0)))","v":0},null,"夏季昼間 (kWh)"]
[0,null,"その他季昼間 (kWh)"]
[0,null,"夜間 (kWh)"]
[{"$f":"IF(OR($P$13=\"\",$P$11=\"\"),0,IF(OR($P$13=\"不明\",$P$11=\"北海道電力\"),0,IF(AND($P$13=\"時間帯別\",OR($P$11=\"中部電力\",$P$11=\"関西電力\")),1,0)))","v":0},null,"重負荷 (kWh)"]
[{"$f":"IF(OR($P$13=\"\",$P$11=\"\"),0,IF(OR($P$13=\"不明\",$P$11=\"北海道電力\"),0,IF(AND($P$13=\"時間帯別\",OR($P$11=\"中部電力\",$P$11=\"関西電力\")),1,0)))","v":0},null,"昼間 (kWh)"]
[{"$f":"IF(OR($P$13=\"\",$P$11=\"\"),0,IF(OR($P$13=\"不明\",$P$11=\"北海道電力\"),0,IF(AND($P$13=\"時間帯別\",OR($P$11=\"中部電力\",$P$11=\"関西電力\")),1,0)))","v":0},null,"夜間 (kWh)"]
[{"$f":"IF(OR($P$13=\"\",$P$11=\"\"),0,IF(OR($P$13=\"不明\",$P$11=\"北海道電力\"),0,IF(AND($P$13=\"休日・平日別\",OR($P$11=\"東北電力\",$P$11=\"東京電力\",$P$11=\"関西電力\",$P$11=\"四国電力\",$P$11=\"九州電力\")),1,0)))","v":0},null,"夏季平日 (kWh)"]
[{"$f":"IF(OR($P$13=\"\",$P$11=\"\"),0,IF(OR($P$13=\"不明\",$P$11=\"北海道電力\"),0,IF(AND($P$13=\"休日・平日別\",OR($P$11=\"東北電力\",$P$11=\"東京電力\",$P$11=\"関西電力\",$P$11=\"四国電力\",$P$11=\"九州電力\")),1,0)))","v":0},null,"夏季休日 (kWh)"]
[0,null,"その他季平日 (kWh)"]
[0,null,"その他季休日 (kWh)"]
[{"$f":"IF(OR($P$13=\"\",$P$11=\"\"),0,IF(OR($P$13=\"不明\",$P$11=\"北海道電力\"),0,IF(AND($P$13=\"休日・平日別\",OR($P$11=\"北陸電力\",$P$11=\"中国電力\")),1,0)))","v":0},null,"ピーク時間 (kWh)"]
[{"$f":"IF(OR($P$13=\"\",$P$11=\"\"),0,IF(OR($P$13=\"不明\",$P$11=\"北海道電力\"),0,IF(AND($P$13=\"休日・平日別\",OR($P$11=\"北陸電力\",$P$11=\"中国電力\")),1,0)))","v":0},null,"夏季平日 (kWh)"]
[{"$f":"IF(OR($P$13=\"\",$P$11=\"\"),0,IF(OR($P$13=\"不明\",$P$11=\"北海道電力\"),0,IF(AND($P$13=\"休日・平日別\",OR($P$11=\"北陸電力\",$P$11=\"中国電力\")),1,0)))","v":0},null,"その他季平日 (kWh)"]
[{"$f":"IF(OR($P$13=\"\",$P$11=\"\"),0,IF(OR($P$13=\"不明\",$P$11=\"北海道電力\"),0,IF(AND($P$13=\"休日・平日別\",OR($P$11=\"北陸電力\",$P$11=\"中国電力\")),1,0)))","v":0},null,"週末 (kWh)"]
[{"$f":"IF(OR($P$13=\"\",$P$11=\"\"),0,IF(OR($P$13=\"不明\",$P$11=\"北海道電力\"),0,IF(AND($P$13=\"休日・平日別\",$P$11=\"中部電力\"),1,0)))","v":0},null,"夏季平日 (kWh)"]
[{"$f":"IF(OR($P$13=\"\",$P$11=\"\"),0,IF(OR($P$13=\"不明\",$P$11=\"北海道電力\"),0,IF(AND($P$13=\"休日・平日別\",$P$11=\"中部電力\"),1,0)))","v":0},null,"その他季平日 (kWh)"]
[{"$f":"IF(OR($P$13=\"\",$P$11=\"\"),0,IF(OR($P$13=\"不明\",$P$11=\"北海道電力\"),0,IF(AND($P$13=\"休日・平日別\",$P$11=\"中部電力\"),1,0)))","v":0},null,"休日 (kWh)"]
[{"$f":"IF(OR($P$13=\"\",$P$11=\"\"),0,IF(AND($P$13=\"不明\",$P$11=\"北海道電力\"),1,IF(AND($P$13=\"標準\",$P$11=\"北海道電力\"),1,0)))","v":0},null,"全日 (kWh)"]
[{"$f":"IF(OR($P$13=\"\",$P$11=\"\"),0,IF(AND($P$13=\"不明\",$P$11=\"北海道電力\"),0,IF(AND($P$13=\"時間帯別\",$P$11=\"北海道電力\"),1,0)))","v":0},null,"昼間 (kWh)"]
[{"$f":"IF(OR($P$13=\"\",$P$11=\"\"),0,IF(AND($P$13=\"不明\",$P$11=\"北海道電力\"),0,IF(AND($P$13=\"時間帯別\",$P$11=\"北海道電力\"),1,0)))","v":0},null,"夜間 (kWh)"]
[{"$f":"IF(OR($P$13=\"\",$P$11=\"\"),0,IF(AND($P$13=\"不明\",$P$11=\"北海道電力\"),0,IF(AND($P$13=\"休日・平日別\",$P$11=\"北海道電力\"),1,0)))","v":0},null,"平日 (kWh)"]
[{"$f":"IF(OR($P$13=\"\",$P$11=\"\"),0,IF(AND($P$13=\"不明\",$P$11=\"北海道電力\"),0,IF(AND($P$13=\"休日・平日別\",$P$11=\"北海道電力\"),1,0)))","v":0},null,"休日 (kWh)"]
[1,null,"※ 月別使用電力量について、未契約の月や不明な場合については「0」をご記入ください。"]
[1]
[{"$f":"IF($AI$19=\"あり\",1,0)","v":0},"■ 自家発補給契約 使用電力量"]
[{"$f":"IF($AI$19=\"あり\",1,0)","v":0},null,null,null,null,null,null,null,null,null,null,null,"4月",null,null,null,null,"5月",null,null,null,null,"6月",null,null,null,null,"7月",null,null,null,null,"8月",null,null,null,null,"9月",null,null,null,null,"10月",null,null,null,null,"11月",null,null,null,null,"12月",null,null,null,null,"1月",null,null,null,null,"2月",null,null,null,null,"3月"]
[{"$f":"IF($AI$19=\"あり\",1,0)","v":0},null,"夏季 (定検) (kWh)"]
[{"$f":"IF($AI$19=\"あり\",1,0)","v":0},null,"その他季 (定検) (kWh)"]
[0,null,"夏季 (その他) (kWh)"]
[0,null,"その他季 (その他) (kWh)"]
[0,null,"※ 自家発補給契約 使用電力量について、未使用の場合については記入不要です。"]
[1]
[1]
[1]
[1]

{"sheet":"入力内容の確認","index":3,"n_rows":98,"n_cols":73,"rows_kept":98,"cut":false,"hidden":true,"merged":[[10,2,10,12],[11,2,11,12],[12,2,12,12],[13,2,13,12],[14,2,14,12],[6,2,6,12],[7,2,7,12],[11,44,11,47],[12,44,12,47],[14,13,14,16],[14,17,14,18],[10,25,10,35],[11,25,11,35],[12,25,12,35],[14,25,14,35],[10,44,10,54],[6,13,6,41],[7,13,7,41],[15,25,15,35],[11,36,11,39],[11,40,11,41],[11,13,11,22],[12,13,12,22],[13,13,13,16],[13,17,13,18],[10,13,10,22],[13,25,13,35],[10,55,10,60],[11,48,11,60],[12,48,12,60],[15,40,15,41],[13,40,13,41],[15,36,15,39],[10,36,10,41],[12,36,12,41],[14,36,14,41],[13,36,13,39],[22,62,22,66],[22,67,22,71],[23,12,23,16],[23,17,23,21],[23,22,23,26],[23,27,23,31],[23,32,23,36],[23,37,23,41],[23,42,23,46],[23,47,23,51],[23,52,23,56],[23,57,23,61],[23,62,23,66],[23,67,23,71],[22,37,22,41],[22,42,22,46],[22,47,22,51],[22,52,22,56],[22,57,22,61],[22,12,22,16],[22,17,22,21],[22,22,22,26],[22,27,22,31],[22,32,22,36],[26,62,26,66],[26,67,26,71],[27,12,27,16],[27,17,27,21],[27,22,27,26],[27,27,27,31],[27,32,27,36],[27,37,27,41],[27,42,27,46],[27,47,27,51],[27,52,27,56],[27,57,27,61],[27,62,27,66],[27,67,27,71],[26,37,26,41],[26,42,26,46],[26,47,26,51],[26,52,26,56],[26,57,26,61],[26,12,26,16],[26,17,26,21],[26,22,26,26],[26,27,26,31],[26,32,26,36],[62,62,62,66],[62,67,62,71],[63,12,63,16],[63,17,63,21],[63,22,63,26],[63,27,63,31],[63,32,63,36],[63,37,63,41],[63,42,63,46],[63,47,63,51],[63,52,63,56],[63,57,63,61],[63,62,63,66],[63,67,63,71],[62,37,62,41],[62,42,62,46],[62,47,62,51],[62,52,62,56],[62,57,62,61],[62,12,62,16],[62,17,62,21],[62,22,62,26],[62,27,62,31],[62,32,62,36],[60,62,60,66],[60,67,60,71],[61,12,61,16],[61,17,61,21],[61,22,61,26],[61,27,61,31],[61,32,61,36],[61,37,61,41],[61,42,61,46],[61,47,61,51],[61,52,61,56],[61,57,61,61],[61,62,61,66],[61,67,61,71],[60,37,60,41],[60,42,60,46],[60,47,60,51],[60,52,60,56],[60,57,60,61],[60,12,60,16],[60,17,60,21],[60,22,60,26],[59,17,59,21],[59,22,59,26],[59,27,59,31],[59,32,59,36],[59,37,59,41],[59,42,59,46],[59,47,59,51],[59,52,59,56],[59,57,59,61],[53,67,53,71],[54,67,54,71],[45,67,45,71],[46,67,46,71],[47,67,47,71],[48,67,48,71],[49,67,49,71],[60,27,60,31],[60,32,60,36],[55,67,55,71],[59,62,59,66],[59,67,59,71],[55,62,55,66],[55,52,55,56],[55,42,55,46],[55,32,55,36],[55,57,55,61],[50,57,50,61],[53,57,53,61],[54,57,54,61],[45,57,45,61],[46,57,46,61],[47,57,47,61],[48,57,48,61],[30,67,30,71],[31,67,31,71],[32,67,32,71],[33,67,33,71],[34,67,34,71],[35,67,35,71],[36,67,36,71],[37,67,37,71],[38,67,38,71],[50,62,50,66],[51,62,51,66],[52,62,52,66],[50,67,50,71],[51,67,51,71],[52,67,52,71],[42,62,42,66],[43,62,43,66],[44,62,44,66],[45,62,45,66],[46,62,46,66],[47,62,47,66],[48,62,48,66],[49,62,49,66],[39,67,39,71],[40,67,40,71],[41,67,41,71],[39,62,39,66],[40,62,40,66],[41,62,41,66],[42,67,42,71],[43,67,43,71],[44,67,44,71],[39,57,39,61],[40,57,40,61],[41,57,41,61],[42,57,42,61],[43,57,43,61],[44,57,44,61],[30,62,30,66],[31,62,31,66],[34,62,34,66],[35,62,35,66],[30,57,30,61],[31,57,31,61],[32,57,32,61],[33,57,33,61],[34,57,34,61],[35,57,35,61],[36,57,36,61],[37,57,37,61],[38,57,38,61],[36,62,36,66],[37,62,37,66],[38,62,38,66],[55,47,55,51],[30,52,30,56],[31,52,31,56],[32,52,32,56],[33,52,33,56],[34,52,34,56],[35,52,35,56],[36,52,36,56],[37,52,37,56],[38,52,38,56],[39,52,39,56],[40,52,40,56],[41,52,41,56],[42,52,42,56],[43,52,43,56],[44,52,44,56],[50,47,50,51],[53,47,53,51],[54,47,54,51],[53,52,53,56],[54,52,54,56],[47,47,47,51],[48,47,48,51],[39,47,39,51],[55,37,55,41],[30,42,30,46],[31,42,31,46],[32,42,32,46],[33,42,33,46],[34,42,34,46],[35,42,35,46],[36,42,36,46],[37,42,37,46],[38,42,38,46],[39,42,39,46],[40,42,40,46],[41,42,41,46],[42,42,42,46],[43,42,43,46],[44,42,44,46],[50,37,50,41],[53,37,53,41],[53,42,53,46],[54,42,54,46],[45,42,45,46],[46,42,46,46],[50,42,50,46],[51,42,51,46],[52,42,52,46],[34,37,34,41],[35,37,35,41],[36,37,36,41],[37,37,37,41],[38,37,38,41],[54,37,54,41],[52,47,52,51],[49,47,49,51],[39,37,39,41],[40,37,40,41],[41,37,41,41],[42,37,42,41],[43,37,43,41],[44,37,44,41],[47,42,47,46],[48,42,48,46],[49,42,49,46],[45,37,45,41],[46,37,46,41],[47,37,47,41],[48,37,48,41],[49,37,49,41],[40,47,40,51],[41,47,41,51],[42,47,42,51],[43,47,43,51],[44,47,44,51],[51,47,51,51],[34,47,34,51],[35,47,35,51],[36,47,36,51],[37,47,37,51],[38,47,38,51],[45,47,45,51],[46,47,46,51],[53,27,53,31],[54,27,54,31],[45,27,45,31],[46,27,46,31],[47,27,47,31],[50,32,50,36],[51,32,51,36],[52,32,52,36],[51,37,51,41],[52,37,52,41],[53,32,53,36],[54,32,54,36],[45,32,45,36],[46,32,46,36],[47,32,47,36],[48,32,48,36],[49,32,49,36],[34,27,34,31],[35,27,35,31],[36,27,36,31],[37,27,37,31],[38,27,38,31],[55,27,55,31],[30,32,30,36],[31,32,31,36],[32,32,32,36],[33,32,33,36],[34,32,34,36],[35,32,35,36],[36,32,36,36],[37,32,37,36],[38,32,38,36],[39,32,39,36],[40,32,40,36],[41,32,41,36],[42,32,42,36],[43,32,43,36],[44,32,44,36],[50,27,50,31],[51,27,51,31],[52,27,52,31],[43,22,43,26],[44,22,44,26],[50,17,50,21],[39,27,39,31],[40,27,40,31],[41,27,41,31],[42,27,42,31],[43,27,43,31],[44,27,44,31],[50,22,50,26],[49,17,49,21],[48,27,48,31],[49,27,49,31],[34,22,34,26],[35,22,35,26],[36,22,36,26],[37,22,37,26],[38,22,38,26],[39,22,39,26],[40,22,40,26],[41,22,41,26],[42,22,42,26],[53,22,53,26],[54,22,54,26],[45,22,45,26],[46,22,46,26],[47,22,47,26],[48,22,48,26],[49,22,49,26],[55,17,55,21],[51,22,51,26],[52,22,52,26],[55,22,55,26],[34,17,34,21],[51,12,51,16],[52,12,52,16],[53,12,53,16],[54,12,54,16],[30,12,30,16],[40,17,40,21],[41,17,41,21],[42,17,42,21],[43,17,43,21],[44,17,44,21],[35,17,35,21],[36,17,36,21],[37,17,37,21],[38,17,38,21],[39,17,39,21],[51,17,51,21],[52,17,52,21],[53,17,53,21],[54,17,54,21],[45,17,45,21],[46,17,46,21],[47,17,47,21],[48,17,48,21],[55,12,55,16],[43,12,43,16],[46,12,46,16],[47,12,47,16],[49,12,49,16],[50,12,50,16],[35,12,35,16],[36,12,36,16],[38,12,38,16],[39,12,39,16],[42,12,42,16],[60,2,60,11],[61,2,61,11],[62,2,62,11],[63,2,63,11],[59,12,59,16],[31,12,31,16],[32,12,32,16],[33,12,33,16],[34,12,34,16],[37,12,37,16],[40,12,40,16],[41,12,41,16],[44,12,44,16],[45,12,45,16],[48,12,48,16],[51,2,51,11],[52,2,52,11],[53,2,53,11],[54,2,54,11],[55,2,55,11],[44,2,44,11],[45,2,45,11],[46,2,46,11],[47,2,47,11],[49,2,49,11],[50,2,50,11],[36,2,36,11],[37,2,37,11],[38,2,38,11],[32,2,32,11],[33,2,33,11],[34,2,34,11],[35,2,35,11],[48,2,48,11],[39,2,39,11],[40,2,40,11],[41,2,41,11],[42,2,42,11],[43,2,43,11],[30,27,30,31],[31,27,31,31],[32,27,32,31],[33,27,33,31],[30,47,30,51],[31,47,31,51],[32,47,32,51],[33,47,33,51],[32,62,32,66],[30,37,30,41],[31,37,31,41],[32,37,32,41],[33,37,33,41],[33,62,33,66],[31,2,31,11],[27,2,27,11],[23,2,23,11],[30,17,30,21],[31,17,31,21],[32,17,32,21],[33,17,33,21],[18,2,18,12],[18,13,18,16],[19,2,19,12],[19,13,19,22],[30,22,30,26],[31,22,31,26],[32,22,32,26],[33,22,33,26],[18,17,18,18],[56,2,56,11],[56,12,56,16],[56,17,56,21],[56,22,56,26],[56,27,56,31],[56,32,56,36],[56,37,56,41],[56,42,56,46],[56,47,56,51],[26,72,26,76],[27,72,27,76],[30,72,30,76],[31,72,31,76],[32,72,32,76],[33,72,33,76],[34,72,34,76],[56,52,56,56],[56,57,56,61],[56,62,56,66],[56,67,56,71],[45,52,45,56],[46,52,46,56],[47,52,47,56],[48,52,48,56],[49,52,49,56],[50,52,50,56],[51,52,51,56],[52,52,52,56],[51,57,51,61],[52,57,52,61],[49,57,49,61],[53,62,53,66],[54,62,54,66],[35,72,35,76],[36,72,36,76],[37,72,37,76],[38,72,38,76],[39,72,39,76],[40,72,40,76],[41,72,41,76],[42,72,42,76],[43,72,43,76],[63,72,63,76],[44,72,44,76],[45,72,45,76],[46,72,46,76],[47,72,47,76],[48,72,48,76],[49,72,49,76],[50,72,50,76],[51,72,51,76],[52,72,52,76],[64,52,64,56],[64,57,64,61],[64,62,64,66],[64,67,64,71],[64,72,64,76],[10,63,10,66],[10,67,10,71],[64,2,64,11],[64,12,64,16],[64,17,64,21],[64,22,64,26],[64,27,64,31],[64,32,64,36],[64,37,64,41],[64,42,64,46],[64,47,64,51],[53,72,53,76],[54,72,54,76],[55,72,55,76],[56,72,56,76],[59,72,59,76],[60,72,60,76],[61,72,61,76],[62,72,62,76]]}
[]
[1,"電力使用状況調査票 入力内容を確認する"]
[1]
[1]
[1]
[1,"■ 需要場所情報"]
[1,null,"需要場所名称",null,null,null,null,null,null,null,null,null,null,{"$f":"契約情報の入力!$P$7","v":0}]
[1,null,"需要場所住所",null,null,null,null,null,null,null,null,null,null,{"$f":"契約情報の入力!$P$8","v":0}]
[1]
[1,"■ 主契約情報",null,null,null,null,null,null,null,null,null,null,null,null,null,null,null,null,null,null,null,null,null,null,"■ 付帯契約",null,null,null,null,null,null,null,null,null,null,null,null,null,null,null,null,null,null,"■ 割引サービス",null,null,null,null,null,null,null,null,null,null,null,null,null,null,null,null,null,null,"■ 参考情報"]
[1,null,"供給電力会社エリア",null,null,null,null,null,null,null,null,null,null,{"$f":"契約情報の入力!$P$11","v":0},null,null,null,null,null,null,null,null,null,null,null,"予備線契約有無",null,null,null,null,null,null,null,null,null,null,{"$f":"契約情報の入力!$N$19","v":"なし"},null,null,null,null,null,null,null,"割引サービス有無",null,null,null,null,null,null,null,null,null,null,{"$f":"契約情報の入力!$AQ$11","v":"なし"},null,null,null,null,null,null,null,"負荷率",null,null,null,{"$f":"BU57/N15/(24*366)","v":{"$error":"#DIV/0!"}}]
[1,null,"契約種別 (一般的なメニュー名)",null,null,null,null,null,null,null,null,null,null,{"$f":"契約情報の入力!$P$12","v":0},null,null,null,null,null,null,null,null,null,null,null,"予備線契約電力",null,null,null,null,null,null,null,null,null,null,{"$f":"IF(AK11=\"なし\",\"\",契約情報の入力!$N$20)","v":""},null,null,null,"kW",null,null,null,"割引名称",null,null,null,{"$f":"IF(BD11=\"なし\",\"\",契約情報の入力!$AK$12)","v":""}]
[1,null,"契約種別 (電力量区分)",null,null,null,null,null,null,null,null,null,null,{"$f":"契約情報の入力!$P$13","v":0},null,null,null,null,null,null,null,null,null,null,null,"予備電源契約有無",null,null,null,null,null,null,null,null,null,null,{"$f":"契約情報の入力!$N$21","v":"なし"},null,null,null,null,null,null,null,"割引金額 ",null,null,null,{"$f":"IF(BD11=\"なし\",\"\",契約情報の入力!$AK$13)","v":""}]
[1,null,"受電電圧",null,null,null,null,null,null,null,null,null,null,{"$f":"契約情報の入力!$P$14","v":0},null,null,null,"kV",null,null,null,null,null,null,null,"予備電源契約電力",null,null,null,null,null,null,null,null,null,null,{"$f":"IF(AK13=\"なし\",\"\",契約情報の入力!$N$22)","v":""},null,null,null,"kW"]
[1,null,"契約電力",null,null,null,null,null,null,null,null,null,null,{"$f":"契約情報の入力!$P$15","v":0},null,null,null,"kW",null,null,null,null,null,null,null,"自家発補給契約有無",null,null,null,null,null,null,null,null,null,null,{"$f":"契約情報の入力!$AI$19","v":"なし"}]
[1,null,null,null,null,null,null,null,null,null,null,null,null,null,null,null,null,null,null,null,null,null,null,null,null,"自家発補給契約電力",null,null,null,null,null,null,null,null,null,null,{"$f":"IF(AK15=\"なし\",\"\",契約情報の入力!$AI$20)","v":""},null,null,null,"kW"]
[1]
[{"$f":"IF($N$19=\"\",0,1)","v":0},"■ 確認事項"]
[{"$f":"IF($N$19=\"\",0,1)","v":0},null,"変更前の契約電力",null,null,null,null,null,null,null,null,null,null,{"$f":"IF(契約情報の入力!$N$27<>\"\",契約情報の入力!$N$27,\"\")","v":""},null,null,null,"kW"]
[{"$f":"IF($N$19=\"\",0,1)","v":0},null,"契約変更日",null,null,null,null,null,null,null,null,null,null,{"$f":"IF(契約情報の入力!$N$28<>\"\",契約情報の入力!$N$28,\"\")","v":""}]
[{"$f":"IF($N$19=\"\",0,1)","v":0}]
[1,"■ 力率"]
[1,null,null,null,null,null,null,null,null,null,null,null,"4月",null,null,null,null,"5月",null,null,null,null,"6月",null,null,null,null,"7月",null,null,null,null,"8月",null,null,null,null,"9月",null,null,null,null,"10月",null,null,null,null,"11月",null,null,null,null,"12月",null,null,null,null,"1月",null,null,null,null,"2月",null,null,null,null,"3月"]
[1,null,"力率(%)",null,null,null,null,null,null,null,null,null,{"$f":"IF(契約情報の入力!M32=\"\",\"\",契約情報の入力!M32)","v":100},null,null,null,null,{"$f":"IF(契約情報の入力!R32=\"\",\"\",契約情報の入力!R32)","v":100},null,null,null,null,{"$f":"IF(契約情報の入力!W32=\"\",\"\",契約情報の入力!W32)","v":100},null,null,null,null,{"$f":"IF(契約情報の入力!AB32=\"\",\"\",契約情報の入力!AB32)","v":100},null,null,null,null,{"$f":"IF(契約情報の入力!AG32=\"\",\"\",契約情報の入力!AG32)","v":100},null,null,null,null,{"$f":"IF(契約情報の入力!AL32=\"\",\"\",契約情報の入力!AL32)","v":100},null,null,null,null,{"$f":"IF(契約情報の入力!AQ32=\"\",\"\",契約情報の入力!AQ32)","v":100},null,null,null,null,{"$f":"IF(契約情報の入力!AV32=\"\",\"\",契約情報の入力!AV32)","v":100},null,null,null,null,{"$f":"IF(契約情報の入力!BA32=\"\",\"\",契約情報の入力!BA32)","v":100},null,null,null,null,{"$f":"IF(契約情報の入力!BF32=\"\",\"\",契約情報の入力!BF32)","v":100},null,null,null,null,{"$f":"IF(契約情報の入力!BK32=\"\",\"\",契約情報の入力!BK32)","v":100},null,null,null,null,{"$f":"IF(契約情報の入力!BP32=\"\",\"\",契約情報の入力!BP32)","v":100}]
[1]
[1,"■ 各月の最大使用電力"]
[1,null,null,null,null,null,null,null,null,null,null,null,"4月",null,null,null,null,"5月",null,null,null,null,"6月",null,null,null,null,"7月",null,null,null,null,"8月",null,null,null,null,"9月",null,null,null,null,"10月",null,null,null,null,"11月",null,null,null,null,"12月",null,null,null,null,"1月",null,null,null,null,"2月",null,null,null,null,"3月",null,null,null,null,"最大値"]
[1,null,"各月の最大使用電力(kW)",null,null,null,null,null,null,null,null,null,{"$f":"IF(契約情報の入力!M37=\"\",\"\",契約情報の入力!M37)","v":""},null,null,null,null,{"$f":"IF(契約情報の入力!R37=\"\",\"\",契約情報の入力!R37)","v":""},null,null,null,null,{"$f":"IF(契約情報の入力!W37=\"\",\"\",契約情報の入力!W37)","v":""},null,null,null,null,{"$f":"IF(契約情報の入力!AB37=\"\",\"\",契約情報の入力!AB37)","v":""},null,null,null,null,{"$f":"IF(契約情報の入力!AG37=\"\",\"\",契約情報の入力!AG37)","v":""},null,null,null,null,{"$f":"IF(契約情報の入力!AL37=\"\",\"\",契約情報の入力!AL37)","v":""},null,null,null,null,{"$f":"IF(契約情報の入力!AQ37=\"\",\"\",契約情報の入力!AQ37)","v":""},null,null,null,null,{"$f":"IF(契約情報の入力!AV37=\"\",\"\",契約情報の入力!AV37)","v":""},null,null,null,null,{"$f":"IF(契約情報の入力!BA37=\"\",\"\",契約情報の入力!BA37)","v":""},null,null,null,null,{"$f":"IF(契約情報の入力!BF37=\"\",\"\",契約情報の入力!BF37)","v":""},null,null,null,null,{"$f":"IF(契約情報の入力!BK37=\"\",\"\",契約情報の入力!BK37)","v":""},null,null,null,null,{"$f":"IF(契約情報の入力!BP37=\"\",\"\",契約情報の入力!BP37)","v":""},null,null,null,null,{"$f":"IF(MAX(M28:BT28)>0,MAX(M28:BT28),\"\")","v":""}]
[1]
[1,"■ 月別使用電力量"]
[1,null,null,null,null,null,null,null,null,null,null,null,"4月",null,null,null,null,"5月",null,null,null,null,"6月",null,null,null,null,"7月",null,null,null,null,"8月",null,null,null,null,"9月",null,null,null,null,"10月",null,null,null,null,"11月",null,null,null,null,"12月",null,null,null,null,"1月",null,null,null,null,"2月",null,null,null,null,"3月",null,null,null,null,"合計"]
[{"$f":"IF(OR($N$13=\"\",$N$11=\"\"),1,IF(AND($N$13=\"不明\",$N$11<>\"北海道電力\"),1,IF(AND($N$11<>\"北海道電力\",$N$13=\"標準\"),1,0)))","v":0},null,"夏季 (kWh)",null,null,null,null,null,null,null,null,null,{"$f":"IF(契約情報の入力!M42=\"\",\"\",契約情報の入力!M42)","v":""},null,null,null,null,{"$f":"IF(契約情報の入力!R42=\"\",\"\",契約情報の入力!R42)","v":""},null,null,null,null,{"$f":"IF(契約情報の入力!W42=\"\",\"\",契約情報の入力!W42)","v":""},null,null,null,null,{"$f":"IF(契約情報の入力!AB42=\"\",\"\",契約情報の入力!AB42)","v":""},null,null,null,null,{"$f":"IF(契約情報の入力!AG42=\"\",\"\",契約情報の入力!AG42)","v":""},null,null,null,null,{"$f":"IF(契約情報の入力!AL42=\"\",\"\",契約情報の入力!AL42)","v":""},null,null,null,null,{"$f":"IF(契約情報の入力!AQ42=\"\",\"\",契約情報の入力!AQ42)","v":""},null,null,null,null,{"$f":"IF(契約情報の入力!AV42=\"\",\"\",契約情報の入力!AV42)","v":""},null,null,null,null,{"$f":"IF(契約情報の入力!BA42=\"\",\"\",契約情報の入力!BA42)","v":""},null,null,null,null,{"$f":"IF(契約情報の入力!BF42=\"\",\"\",契約情報の入力!BF42)","v":""},null,null,null,null,{"$f":"IF(契約情報の入力!BK42=\"\",\"\",契約情報の入力!BK42)","v":""},null,null,null,null,{"$f":"IF(契約情報の入力!BP42=\"\",\"\",契約情報の入力!BP42)","v":""},null,null,null,null,{"$f":"SUM(M32:BT32)","v":0}]
[{"$f":"IF(OR($N$13=\"\",$N$11=\"\"),1,IF(AND($N$13=\"不明\",$N$11<>\"北海道電力\"),1,IF(AND($N$11<>\"北海道電力\",$N$13=\"標準\"),1,0)))","v":0},null,"その他季 (kWh)",null,null,null,null,null,null,null,null,null,{"$f":"IF(契約情報の入力!M43=\"\",\"\",契約情報の入力!M43)","v":""},null,null,null,null,{"$f":"IF(契約情報の入力!R43=\"\",\"\",契約情報の入力!R43)","v":""},null,null,null,null,{"$f":"IF(契約情報の入力!W43=\"\",\"\",契約情報の入力!W43)","v":""},null,null,null,null,{"$f":"IF(契約情報の入力!AB43=\"\",\"\",契約情報の入力!AB43)","v":""},null,null,null,null,{"$f":"IF(契約情報の入力!AG43=\"\",\"\",契約情報の入力!AG43)","v":""},null,null,null,null,{"$f":"IF(契約情報の入力!AL43=\"\",\"\",契約情報の入力!AL43)","v":""},null,null,null,null,{"$f":"IF(契約情報の入力!AQ43=\"\",\"\",契約情報の入力!AQ43)","v":""},null,null,null,null,{"$f":"IF(契約情報の入力!AV43=\"\",\"\",契約情報の入力!AV43)","v":""},null,null,null,null,{"$f":"IF(契約情報の入力!BA43=\"\",\"\",契約情報の入力!BA43)","v":""},null,null,null,null,{"$f":"IF(契約情報の入力!BF43=\"\",\"\",契約情報の入力!BF43)","v":""},null,null,null,null,{"$f":"IF(契約情報の入力!BK43=\"\",\"\",契約情報の入力!BK43)","v":""},null,null,null,null,{"$f":"IF(契約情報の入力!BP43=\"\",\"\",契約情報の入力!BP43)","v":""},null,null,null,null,{"$f":"SUM(M33:BT33)","v":0}]
[{"$f":"IF(OR($N$13=\"\",$N$11=\"\"),0,IF(OR($N$13=\"不明\",$N$11=\"北海道電力\"),0,IF(AND($N$13=\"時間帯別\",$N$11<>\"中部電力\",$N$11<>\"関西電力\"),1,0)))","v":0},null,"ピーク (kWh)",null,null,null,null,null,null,null,null,null,{"$f":"IF(契約情報の入力!M44=\"\",\"\",契約情報の入力!M44)","v":""},null,null,null,null,{"$f":"IF(契約情報の入力!R44=\"\",\"\",契約情報の入力!R44)","v":""},null,null,null,null,{"$f":"IF(契約情報の入力!W44=\"\",\"\",契約情報の入力!W44)","v":""},null,null,null,null,{"$f":"IF(契約情報の入力!AB44=\"\",\"\",契約情報の入力!AB44)","v":""},null,null,null,null,{"$f":"IF(契約情報の入力!AG44=\"\",\"\",契約情報の入力!AG44)","v":""},null,null,null,null,{"$f":"IF(契約情報の入力!AL44=\"\",\"\",契約情報の入力!AL44)","v":""},null,null,null,null,{"$f":"IF(契約情報の入力!AQ44=\"\",\"\",契約情報の入力!AQ44)","v":""},null,null,null,null,{"$f":"IF(契約情報の入力!AV44=\"\",\"\",契約情報の入力!AV44)","v":""},null,null,null,null,{"$f":"IF(契約情報の入力!BA44=\"\",\"\",契約情報の入力!BA44)","v":""},null,null,null,null,{"$f":"IF(契約情報の入力!BF44=\"\",\"\",契約情報の入力!BF44)","v":""},null,null,null,null,{"$f":"IF(契約情報の入力!BK44=\"\",\"\",契約情報の入力!BK44)","v":""},null,null,null,null,{"$f":"IF(契約情報の入力!BP44=\"\",\"\",契約情報の入力!BP44)","v":""},null,null,null,null,0]
[{"$f":"IF(OR($N$13=\"\",$N$11=\"\"),0,IF(OR($N$13=\"不明\",$N$11=\"北海道電力\"),0,IF(AND($N$13=\"時間帯別\",$N$11<>\"中部電力\",$N$11<>\"関西電力\"),1,0)))","v":0},null,"夏季昼間 (kWh)",null,null,null,null,null,null,null,null,null,{"$f":"IF(契約情報の入力!M45=\"\",\"\",契約情報の入力!M45)","v":""},null,null,null,null,{"$f":"IF(契約情報の入力!R45=\"\",\"\",契約情報の入力!R45)","v":""},null,null,null,null,{"$f":"IF(契約情報の入力!W45=\"\",\"\",契約情報の入力!W45)","v":""},null,null,null,null,{"$f":"IF(契約情報の入力!AB45=\"\",\"\",契約情報の入力!AB45)","v":""},null,null,null,null,{"$f":"IF(契約情報の入力!AG45=\"\",\"\",契約情報の入力!AG45)","v":""},null,null,null,null,{"$f":"IF(契約情報の入力!AL45=\"\",\"\",契約情報の入力!AL45)","v":""},null,null,null,null,{"$f":"IF(契約情報の入力!AQ45=\"\",\"\",契約情報の入力!AQ45)","v":""},null,null,null,null,{"$f":"IF(契約情報の入力!AV45=\"\",\"\",契約情報の入力!AV45)","v":""},null,null,null,null,{"$f":"IF(契約情報の入力!BA45=\"\",\"\",契約情報の入力!BA45)","v":""},null,null,null,null,{"$f":"IF(契約情報の入力!BF45=\"\",\"\",契約情報の入力!BF45)","v":""},null,null,null,null,{"$f":"IF(契約情報の入力!BK45=\"\",\"\",契約情報の入力!BK45)","v":""},null,null,null,null,{"$f":"IF(契約情報の入力!BP45=\"\",\"\",契約情報の入力!BP45)","v":""},null,null,null,null,0]
[{"$f":"IF(OR($N$13=\"\",$N$11=\"\"),0,IF(OR($N$13=\"不明\",$N$11=\"北海道電力\"),0,IF(AND($N$13=\"時間帯別\",$N$11<>\"中部電力\",$N$11<>\"関西電力\"),1,0)))","v":0},null,"その他季昼間 (kWh)",null,null,null,null,null,null,null,null,null,{"$f":"IF(契約情報の入力!M46=\"\",\"\",契約情報の入力!M46)","v":""},null,null,null,null,{"$f":"IF(契約情報の入力!R46=\"\",\"\",契約情報の入力!R46)","v":""},null,null,null,null,{"$f":"IF(契約情報の入力!W46=\"\",\"\",契約情報の入力!W46)","v":""},null,null,null,null,{"$f":"IF(契約情報の入力!AB46=\"\",\"\",契約情報の入力!AB46)","v":""},null,null,null,null,{"$f":"IF(契約情報の入力!AG46=\"\",\"\",契約情報の入力!AG46)","v":""},null,null,null,null,{"$f":"IF(契約情報の入力!AL46=\"\",\"\",契約情報の入力!AL46)","v":""},null,null,null,null,{"$f":"IF(契約情報の入力!AQ46=\"\",\"\",契約情報の入力!AQ46)","v":""},null,null,null,null,{"$f":"IF(契約情報の入力!AV46=\"\",\"\",契約情報の入力!AV46)","v":""},null,null,null,null,{"$f":"IF(契約情報の入力!BA46=\"\",\"\",契約情報の入力!BA46)","v":""},null,null,null,null,{"$f":"IF(契約情報の入力!BF46=\"\",\"\",契約情報の入力!BF46)","v":""},null,null,null,null,{"$f":"IF(契約情報の入力!BK46=\"\",\"\",契約情報の入力!BK46)","v":""},null,null,null,null,{"$f":"IF(契約情報の入力!BP46=\"\",\"\",契約情報の入力!BP46)","v":""},null,null,null,null,0]
[{"$f":"IF(OR($N$13=\"\",$N$11=\"\"),0,IF(OR($N$13=\"不明\",$N$11=\"北海道電力\"),0,IF(AND($N$13=\"時間帯別\",$N$11<>\"中部電力\",$N$11<>\"関西電力\"),1,0)))","v":0},null,"夜間 (kWh)",null,null,null,null,null,null,null,null,null,{"$f":"IF(契約情報の入力!M47=\"\",\"\",契約情報の入力!M47)","v":""},null,null,null,null,{"$f":"IF(契約情報の入力!R47=\"\",\"\",契約情報の入力!R47)","v":""},null,null,null,null,{"$f":"IF(契約情報の入力!W47=\"\",\"\",契約情報の入力!W47)","v":""},null,null,null,null,{"$f":"IF(契約情報の入力!AB47=\"\",\"\",契約情報の入力!AB47)","v":""},null,null,null,null,{"$f":"IF(契約情報の入力!AG47=\"\",\"\",契約情報の入力!AG47)","v":""},null,null,null,null,{"$f":"IF(契約情報の入力!AL47=\"\",\"\",契約情報の入力!AL47)","v":""},null,null,null,null,{"$f":"IF(契約情報の入力!AQ47=\"\",\"\",契約情報の入力!AQ47)","v":""},null,null,null,null,{"$f":"IF(契約情報の入力!AV47=\"\",\"\",契約情報の入力!AV47)","v":""},null,null,null,null,{"$f":"IF(契約情報の入力!BA47=\"\",\"\",契約情報の入力!BA47)","v":""},null,null,null,null,{"$f":"IF(契約情報の入力!BF47=\"\",\"\",契約情報の入力!BF47)","v":""},null,null,null,null,{"$f":"IF(契約情報の入力!BK47=\"\",\"\",契約情報の入力!BK47)","v":""},null,null,null,null,{"$f":"IF(契約情報の入力!BP47=\"\",\"\",契約情報の入力!BP47)","v":""},null,null,null,null,0]
[{"$f":"IF(OR($N$13=\"\",$N$11=\"\"),0,IF(OR($N$13=\"不明\",$N$11=\"北海道電力\"),0,IF(AND($N$13=\"時間帯別\",OR($N$11=\"中部電力\",$N$11=\"関西電力\")),1,0)))","v":0},null,"重負荷 (kWh)",null,null,null,null,null,null,null,null,null,{"$f":"IF(契約情報の入力!M48=\"\",\"\",契約情報の入力!M48)","v":""},null,null,null,null,{"$f":"IF(契約情報の入力!R48=\"\",\"\",契約情報の入力!R48)","v":""},null,null,null,null,{"$f":"IF(契約情報の入力!W48=\"\",\"\",契約情報の入力!W48)","v":""},null,null,null,null,{"$f":"IF(契約情報の入力!AB48=\"\",\"\",契約情報の入力!AB48)","v":""},null,null,null,null,{"$f":"IF(契約情報の入力!AG48=\"\",\"\",契約情報の入力!AG48)","v":""},null,null,null,null,{"$f":"IF(契約情報の入力!AL48=\"\",\"\",契約情報の入力!AL48)","v":""},null,null,null,null,{"$f":"IF(契約情報の入力!AQ48=\"\",\"\",契約情報の入力!AQ48)","v":""},null,null,null,null,{"$f":"IF(契約情報の入力!AV48=\"\",\"\",契約情報の入力!AV48)","v":""},null,null,null,null,{"$f":"IF(契約情報の入力!BA48=\"\",\"\",契約情報の入力!BA48)","v":""},null,null,null,null,{"$f":"IF(契約情報の入力!BF48=\"\",\"\",契約情報の入力!BF48)","v":""},null,null,null,null,{"$f":"IF(契約情報の入力!BK48=\"\",\"\",契約情報の入力!BK48)","v":""},null,null,null,null,{"$f":"IF(契約情報の入力!BP48=\"\",\"\",契約情報の入力!BP48)","v":""},null,null,null,null,0]
[{"$f":"IF(OR($N$13=\"\",$N$11=\"\"),0,IF(OR($N$13=\"不明\",$N$11=\"北海道電力\"),0,IF(AND($N$13=\"時間帯別\",OR($N$11=\"中部電力\",$N$11=\"関西電力\")),1,0)))","v":0},null,"昼間 (kWh)",null,null,null,null,null,null,null,null,null,{"$f":"IF(契約情報の入力!M49=\"\",\"\",契約情報の入力!M49)","v":""},null,null,null,null,{"$f":"IF(契約情報の入力!R49=\"\",\"\",契約情報の入力!R49)","v":""},null,null,null,null,{"$f":"IF(契約情報の入力!W49=\"\",\"\",契約情報の入力!W49)","v":""},null,null,null,null,{"$f":"IF(契約情報の入力!AB49=\"\",\"\",契約情報の入力!AB49)","v":""},null,null,null,null,{"$f":"IF(契約情報の入力!AG49=\"\",\"\",契約情報の入力!AG49)","v":""},null,null,null,null,{"$f":"IF(契約情報の入力!AL49=\"\",\"\",契約情報の入力!AL49)","v":""},null,null,null,null,{"$f":"IF(契約情報の入力!AQ49=\"\",\"\",契約情報の入力!AQ49)","v":""},null,null,null,null,{"$f":"IF(契約情報の入力!AV49=\"\",\"\",契約情報の入力!AV49)","v":""},null,null,null,null,{"$f":"IF(契約情報の入力!BA49=\"\",\"\",契約情報の入力!BA49)","v":""},null,null,null,null,{"$f":"IF(契約情報の入力!BF49=\"\",\"\",契約情報の入力!BF49)","v":""},null,null,null,null,{"$f":"IF(契約情報の入力!BK49=\"\",\"\",契約情報の入力!BK49)","v":""},null,null,null,null,{"$f":"IF(契約情報の入力!BP49=\"\",\"\",契約情報の入力!BP49)","v":""},null,null,null,null,0]
[{"$f":"IF(OR($N$13=\"\",$N$11=\"\"),0,IF(OR($N$13=\"不明\",$N$11=\"北海道電力\"),0,IF(AND($N$13=\"時間帯別\",OR($N$11=\"中部電力\",$N$11=\"関西電力\")),1,0)))","v":0},null,"夜間 (kWh)",null,null,null,null,null,null,null,null,null,{"$f":"IF(契約情報の入力!M50=\"\",\"\",契約情報の入力!M50)","v":""},null,null,null,null,{"$f":"IF(契約情報の入力!R50=\"\",\"\",契約情報の入力!R50)","v":""},null,null,null,null,{"$f":"IF(契約情報の入力!W50=\"\",\"\",契約情報の入力!W50)","v":""},null,null,null,null,{"$f":"IF(契約情報の入力!AB50=\"\",\"\",契約情報の入力!AB50)","v":""},null,null,null,null,{"$f":"IF(契約情報の入力!AG50=\"\",\"\",契約情報の入力!AG50)","v":""},null,null,null,null,{"$f":"IF(契約情報の入力!AL50=\"\",\"\",契約情報の入力!AL50)","v":""},null,null,null,null,{"$f":"IF(契約情報の入力!AQ50=\"\",\"\",契約情報の入力!AQ50)","v":""},null,null,null,null,{"$f":"IF(契約情報の入力!AV50=\"\",\"\",契約情報の入力!AV50)","v":""},null,null,null,null,{"$f":"IF(契約情報の入力!BA50=\"\",\"\",契約情報の入力!BA50)","v":""},null,null,null,null,{"$f":"IF(契約情報の入力!BF50=\"\",\"\",契約情報の入力!BF50)","v":""},null,null,null,null,{"$f":"IF(契約情報の入力!BK50=\"\",\"\",契約情報の入力!BK50)","v":""},null,null,null,null,{"$f":"IF(契約情報の入力!BP50=\"\",\"\",契約情報の入力!BP50)","v":""},null,null,null,null,0]
[{"$f":"IF(OR($N$13=\"\",$N$11=\"\"),0,IF(OR($N$13=\"不明\",$N$11=\"北海道電力\"),0,IF(AND($N$13=\"休日・平日別\",OR($N$11=\"東北電力\",$N$11=\"東京電力\",$N$11=\"関西電力\",$N$11=\"四国電力\",$N$11=\"九州電力\")),1,0)))","v":0},null,"夏季平日 (kWh)",null,null,null,null,null,null,null,null,null,{"$f":"IF(契約情報の入力!M51=\"\",\"\",契約情報の入力!M51)","v":""},null,null,null,null,{"$f":"IF(契約情報の入力!R51=\"\",\"\",契約情報の入力!R51)","v":""},null,null,null,null,{"$f":"IF(契約情報の入力!W51=\"\",\"\",契約情報の入力!W51)","v":""},null,null,null,null,{"$f":"IF(契約情報の入力!AB51=\"\",\"\",契約情報の入力!AB51)","v":""},null,null,null,null,{"$f":"IF(契約情報の入力!AG51=\"\",\"\",契約情報の入力!AG51)","v":""},null,null,null,null,{"$f":"IF(契約情報の入力!AL51=\"\",\"\",契約情報の入力!AL51)","v":""},null,null,null,null,{"$f":"IF(契約情報の入力!AQ51=\"\",\"\",契約情報の入力!AQ51)","v":""},null,null,null,null,{"$f":"IF(契約情報の入力!AV51=\"\",\"\",契約情報の入力!AV51)","v":""},null,null,null,null,{"$f":"IF(契約情報の入力!BA51=\"\",\"\",契約情報の入力!BA51)","v":""},null,null,null,null,{"$f":"IF(契約情報の入力!BF51=\"\",\"\",契約情報の入力!BF51)","v":""},null,null,null,null,{"$f":"IF(契約情報の入力!BK51=\"\",\"\",契約情報の入力!BK51)","v":""},null,null,null,null,{"$f":"IF(契約情報の入力!BP51=\"\",\"\",契約情報の入力!BP51)","v":""},null,null,null,null,0]
[{"$f":"IF(OR($N$13=\"\",$N$11=\"\"),0,IF(OR($N$13=\"不明\",$N$11=\"北海道電力\"),0,IF(AND($N$13=\"休日・平日別\",OR($N$11=\"東北電力\",$N$11=\"東京電力\",$N$11=\"関西電力\",$N$11=\"四国電力\",$N$11=\"九州電力\")),1,0)))","v":0},null,"夏季休日 (kWh)",null,null,null,null,null,null,null,null,null,{"$f":"IF(契約情報の入力!M52=\"\",\"\",契約情報の入力!M52)","v":""},null,null,null,null,{"$f":"IF(契約情報の入力!R52=\"\",\"\",契約情報の入力!R52)","v":""},null,null,null,null,{"$f":"IF(契約情報の入力!W52=\"\",\"\",契約情報の入力!W52)","v":""},null,null,null,null,{"$f":"IF(契約情報の入力!AB52=\"\",\"\",契約情報の入力!AB52)","v":""},null,null,null,null,{"$f":"IF(契約情報の入力!AG52=\"\",\"\",契約情報の入力!AG52)","v":""},null,null,null,null,{"$f":"IF(契約情報の入力!AL52=\"\",\"\",契約情報の入力!AL52)","v":""},null,null,null,null,{"$f":"IF(契約情報の入力!AQ52=\"\",\"\",契約情報の入力!AQ52)","v":""},null,null,null,null,{"$f":"IF(契約情報の入力!AV52=\"\",\"\",契約情報の入力!AV52)","v":""},null,null,null,null,{"$f":"IF(契約情報の入力!BA52=\"\",\"\",契約情報の入力!BA52)","v":""},null,null,null,null,{"$f":"IF(契約情報の入力!BF52=\"\",\"\",契約情報の入力!BF52)","v":""},null,null,null,null,{"$f":"IF(契約情報の入力!BK52=\"\",\"\",契約情報の入力!BK52)","v":""},null,null,null,null,{"$f":"IF(契約情報の入力!BP52=\"\",\"\",契約情報の入力!BP52)","v":""},null,null,null,null,0]
[0,null,"その他季平日 (kWh)",null,null,null,null,null,null,null,null,null,{"$f":"IF(契約情報の入力!M53=\"\",\"\",契約情報の入力!M53)","v":""},null,null,null,null,{"$f":"IF(契約情報の入力!R53=\"\",\"\",契約情報の入力!R53)","v":""},null,null,null,null,{"$f":"IF(契約情報の入力!W53=\"\",\"\",契約情報の入力!W53)","v":""},null,null,null,null,{"$f":"IF(契約情報の入力!AB53=\"\",\"\",契約情報の入力!AB53)","v":""},null,null,null,null,{"$f":"IF(契約情報の入力!AG53=\"\",\"\",契約情報の入力!AG53)","v":""},null,null,null,null,{"$f":"IF(契約情報の入力!AL53=\"\",\"\",契約情報の入力!AL53)","v":""},null,null,null,null,{"$f":"IF(契約情報の入力!AQ53=\"\",\"\",契約情報の入力!AQ53)","v":""},null,null,null,null,{"$f":"IF(契約情報の入力!AV53=\"\",\"\",契約情報の入力!AV53)","v":""},null,null,null,null,{"$f":"IF(契約情報の入力!BA53=\"\",\"\",契約情報の入力!BA53)","v":""},null,null,null,null,{"$f":"IF(契約情報の入力!BF53=\"\",\"\",契約情報の入力!BF53)","v":""},null,null,null,null,{"$f":"IF(契約情報の入力!BK53=\"\",\"\",契約情報の入力!BK53)","v":""},null,null,null,null,{"$f":"IF(契約情報の入力!BP53=\"\",\"\",契約情報の入力!BP53)","v":""},null,null,null,null,0]
[0,null,"その他季休日 (kWh)",null,null,null,null,null,null,null,null,null,{"$f":"IF(契約情報の入力!M54=\"\",\"\",契約情報の入力!M54)","v":""},null,null,null,null,{"$f":"IF(契約情報の入力!R54=\"\",\"\",契約情報の入力!R54)","v":""},null,null,null,null,{"$f":"IF(契約情報の入力!W54=\"\",\"\",契約情報の入力!W54)","v":""},null,null,null,null,{"$f":"IF(契約情報の入力!AB54=\"\",\"\",契約情報の入力!AB54)","v":""},null,null,null,null,{"$f":"IF(契約情報の入力!AG54=\"\",\"\",契約情報の入力!AG54)","v":""},null,null,null,null,{"$f":"IF(契約情報の入力!AL54=\"\",\"\",契約情報の入力!AL54)","v":""},null,null,null,null,{"$f":"IF(契約情報の入力!AQ54=\"\",\"\",契約情報の入力!AQ54)","v":""},null,null,null,null,{"$f":"IF(契約情報の入力!AV54=\"\",\"\",契約情報の入力!AV54)","v":""},null,null,null,null,{"$f":"IF(契約情報の入力!BA54=\"\",\"\",契約情報の入力!BA54)","v":""},null,null,null,null,{"$f":"IF(契約情報の入力!BF54=\"\",\"\",契約情報の入力!BF54)","v":""},null,null,null,null,{"$f":"IF(契約情報の入力!BK54=\"\",\"\",契約情報の入力!BK54)","v":""},null,null,null,null,{"$f":"IF(契約情報の入力!BP54=\"\",\"\",契約情報の入力!BP54)","v":""},null,null,null,null,0]
[{"$f":"IF(OR($N$13=\"\",$N$11=\"\"),0,IF(OR($N$13=\"不明\",$N$11=\"北海道電力\"),0,IF(AND($N$13=\"休日・平日別\",OR($N$11=\"北陸電力\",$N$11=\"中国電力\")),1,0)))","v":0},null,"ピーク時間 (kWh)",null,null,null,null,null,null,null,null,null,{"$f":"IF(契約情報の入力!M55=\"\",\"\",契約情報の入力!M55)","v":""},null,null,null,null,{"$f":"IF(契約情報の入力!R55=\"\",\"\",契約情報の入力!R55)","v":""},null,null,null,null,{"$f":"IF(契約情報の入力!W55=\"\",\"\",契約情報の入力!W55)","v":""},null,null,null,null,{"$f":"IF(契約情報の入力!AB55=\"\",\"\",契約情報の入力!AB55)","v":""},null,null,null,null,{"$f":"IF(契約情報の入力!AG55=\"\",\"\",契約情報の入力!AG55)","v":""},null,null,null,null,{"$f":"IF(契約情報の入力!AL55=\"\",\"\",契約情報の入力!AL55)","v":""},null,null,null,null,{"$f":"IF(契約情報の入力!AQ55=\"\",\"\",契約情報の入力!AQ55)","v":""},null,null,null,null,{"$f":"IF(契約情報の入力!AV55=\"\",\"\",契約情報の入力!AV55)","v":""},null,null,null,null,{"$f":"IF(契約情報の入力!BA55=\"\",\"\",契約情報の入力!BA55)","v":""},null,null,null,null,{"$f":"IF(契約情報の入力!BF55=\"\",\"\",契約情報の入力!BF55)","v":""},null,null,null,null,{"$f":"IF(契約情報の入力!BK55=\"\",\"\",契約情報の入力!BK55)","v":""},null,null,null,null,{"$f":"IF(契約情報の入力!BP55=\"\",\"\",契約情報の入力!BP55)","v":""},null,null,null,null,0]
[{"$f":"IF(OR($N$13=\"\",$N$11=\"\"),0,IF(OR($N$13=\"不明\",$N$11=\"北海道電力\"),0,IF(AND($N$13=\"休日・平日別\",OR($N$11=\"北陸電力\",$N$11=\"中国電力\")),1,0)))","v":0},null,"夏季平日 (kWh)",null,null,null,null,null,null,null,null,null,{"$f":"IF(契約情報の入力!M56=\"\",\"\",契約情報の入力!M56)","v":""},null,null,null,null,{"$f":"IF(契約情報の入力!R56=\"\",\"\",契約情報の入力!R56)","v":""},null,null,null,null,{"$f":"IF(契約情報の入力!W56=\"\",\"\",契約情報の入力!W56)","v":""},null,null,null,null,{"$f":"IF(契約情報の入力!AB56=\"\",\"\",契約情報の入力!AB56)","v":""},null,null,null,null,{"$f":"IF(契約情報の入力!AG56=\"\",\"\",契約情報の入力!AG56)","v":""},null,null,null,null,{"$f":"IF(契約情報の入力!AL56=\"\",\"\",契約情報の入力!AL56)","v":""},null,null,null,null,{"$f":"IF(契約情報の入力!AQ56=\"\",\"\",契約情報の入力!AQ56)","v":""},null,null,null,null,{"$f":"IF(契約情報の入力!AV56=\"\",\"\",契約情報の入力!AV56)","v":""},null,null,null,null,{"$f":"IF(契約情報の入力!BA56=\"\",\"\",契約情報の入力!BA56)","v":""},null,null,null,null,{"$f":"IF(契約情報の入力!BF56=\"\",\"\",契約情報の入力!BF56)","v":""},null,null,null,null,{"$f":"IF(契約情報の入力!BK56=\"\",\"\",契約情報の入力!BK56)","v":""},null,null,null,null,{"$f":"IF(契約情報の入力!BP56=\"\",\"\",契約情報の入力!BP56)","v":""},null,null,null,null,0]
[{"$f":"IF(OR($N$13=\"\",$N$11=\"\"),0,IF(OR($N$13=\"不明\",$N$11=\"北海道電力\"),0,IF(AND($N$13=\"休日・平日別\",OR($N$11=\"北陸電力\",$N$11=\"中国電力\")),1,0)))","v":0},null,"その他季平日 (kWh)",null,null,null,null,null,null,null,null,null,{"$f":"IF(契約情報の入力!M57=\"\",\"\",契約情報の入力!M57)","v":""},null,null,null,null,{"$f":"IF(契約情報の入力!R57=\"\",\"\",契約情報の入力!R57)","v":""},null,null,null,null,{"$f":"IF(契約情報の入力!W57=\"\",\"\",契約情報の入力!W57)","v":""},null,null,null,null,{"$f":"IF(契約情報の入力!AB57=\"\",\"\",契約情報の入力!AB57)","v":""},null,null,null,null,{"$f":"IF(契約情報の入力!AG57=\"\",\"\",契約情報の入力!AG57)","v":""},null,null,null,null,{"$f":"IF(契約情報の入力!AL57=\"\",\"\",契約情報の入力!AL57)","v":""},null,null,null,null,{"$f":"IF(契約情報の入力!AQ57=\"\",\"\",契約情報の入力!AQ57)","v":""},null,null,null,null,{"$f":"IF(契約情報の入力!AV57=\"\",\"\",契約情報の入力!AV57)","v":""},null,null,null,null,{"$f":"IF(契約情報の入力!BA57=\"\",\"\",契約情報の入力!BA57)","v":""},null,null,null,null,{"$f":"IF(契約情報の入力!BF57=\"\",\"\",契約情報の入力!BF57)","v":""},null,null,null,null,{"$f":"IF(契約情報の入力!BK57=\"\",\"\",契約情報の入力!BK57)","v":""},null,null,null,null,{"$f":"IF(契約情報の入力!BP57=\"\",\"\",契約情報の入力!BP57)","v":""},null,null,null,null,0]
[{"$f":"IF(OR($N$13=\"\",$N$11=\"\"),0,IF(OR($N$13=\"不明\",$N$11=\"北海道電力\"),0,IF(AND($N$13=\"休日・平日別\",OR($N$11=\"北陸電力\",$N$11=\"中国電力\")),1,0)))","v":0},null,"週末 (kWh)",null,null,null,null,null,null,null,null,null,{"$f":"IF(契約情報の入力!M58=\"\",\"\",契約情報の入力!M58)","v":""},null,null,null,null,{"$f":"IF(契約情報の入力!R58=\"\",\"\",契約情報の入力!R58)","v":""},null,null,null,null,{"$f":"IF(契約情報の入力!W58=\"\",\"\",契約情報の入力!W58)","v":""},null,null,null,null,{"$f":"IF(契約情報の入力!AB58=\"\",\"\",契約情報の入力!AB58)","v":""},null,null,null,null,{"$f":"IF(契約情報の入力!AG58=\"\",\"\",契約情報の入力!AG58)","v":""},null,null,null,null,{"$f":"IF(契約情報の入力!AL58=\"\",\"\",契約情報の入力!AL58)","v":""},null,null,null,null,{"$f":"IF(契約情報の入力!AQ58=\"\",\"\",契約情報の入力!AQ58)","v":""},null,null,null,null,{"$f":"IF(契約情報の入力!AV58=\"\",\"\",契約情報の入力!AV58)","v":""},null,null,null,null,{"$f":"IF(契約情報の入力!BA58=\"\",\"\",契約情報の入力!BA58)","v":""},null,null,null,null,{"$f":"IF(契約情報の入力!BF58=\"\",\"\",契約情報の入力!BF58)","v":""},null,null,null,null,{"$f":"IF(契約情報の入力!BK58=\"\",\"\",契約情報の入力!BK58)","v":""},null,null,null,null,{"$f":"IF(契約情報の入力!BP58=\"\",\"\",契約情報の入力!BP58)","v":""},null,null,null,null,0]
[{"$f":"IF(OR($N$13=\"\",$N$11=\"\"),0,IF(OR($N$13=\"不明\",$N$11=\"北海道電力\"),0,IF(AND($N$13=\"休日・平日別\",$N$11=\"中部電力\"),1,0)))","v":0},null,"夏季平日 (kWh)",null,null,null,null,null,null,null,null,null,{"$f":"IF(契約情報の入力!M59=\"\",\"\",契約情報の入力!M59)","v":""},null,null,null,null,{"$f":"IF(契約情報の入力!R59=\"\",\"\",契約情報の入力!R59)","v":""},null,null,null,null,{"$f":"IF(契約情報の入力!W59=\"\",\"\",契約情報の入力!W59)","v":""},null,null,null,null,{"$f":"IF(契約情報の入力!AB59=\"\",\"\",契約情報の入力!AB59)","v":""},null,null,null,null,{"$f":"IF(契約情報の入力!AG59=\"\",\"\",契約情報の入力!AG59)","v":""},null,null,null,null,{"$f":"IF(契約情報の入力!AL59=\"\",\"\",契約情報の入力!AL59)","v":""},null,null,null,null,{"$f":"IF(契約情報の入力!AQ59=\"\",\"\",契約情報の入力!AQ59)","v":""},null,null,null,null,{"$f":"IF(契約情報の入力!AV59=\"\",\"\",契約情報の入力!AV59)","v":""},null,null,null,null,{"$f":"IF(契約情報の入力!BA59=\"\",\"\",契約情報の入力!BA59)","v":""},null,null,null,null,{"$f":"IF(契約情報の入力!BF59=\"\",\"\",契約情報の入力!BF59)","v":""},null,null,null,null,{"$f":"IF(契約情報の入力!BK59=\"\",\"\",契約情報の入力!BK59)","v":""},null,null,null,null,{"$f":"IF(契約情報の入力!BP59=\"\",\"\",契約情報の入力!BP59)","v":""},null,null,null,null,0]
[{"$f":"IF(OR($N$13=\"\",$N$11=\"\"),0,IF(OR($N$13=\"不明\",$N$11=\"北海道電力\"),0,IF(AND($N$13=\"休日・平日別\",$N$11=\"中部電力\"),1,0)))","v":0},null,"その他季平日 (kWh)",null,null,null,null,null,null,null,null,null,{"$f":"IF(契約情報の入力!M60=\"\",\"\",契約情報の入力!M60)","v":""},null,null,null,null,{"$f":"IF(契約情報の入力!R60=\"\",\"\",契約情報の入力!R60)","v":""},null,null,null,null,{"$f":"IF(契約情報の入力!W60=\"\",\"\",契約情報の入力!W60)","v":""},null,null,null,null,{"$f":"IF(契約情報の入力!AB60=\"\",\"\",契約情報の入力!AB60)","v":""},null,null,null,null,{"$f":"IF(契約情報の入力!AG60=\"\",\"\",契約情報の入力!AG60)","v":""},null,null,null,null,{"$f":"IF(契約情報の入力!AL60=\"\",\"\",契約情報の入力!AL60)","v":""},null,null,null,null,{"$f":"IF(契約情報の入力!AQ60=\"\",\"\",契約情報の入力!AQ60)","v":""},null,null,null,null,{"$f":"IF(契約情報の入力!AV60=\"\",\"\",契約情報の入力!AV60)","v":""},null,null,null,null,{"$f":"IF(契約情報の入力!BA60=\"\",\"\",契約情報の入力!BA60)","v":""},null,null,null,null,{"$f":"IF(契約情報の入力!BF60=\"\",\"\",契約情報の入力!BF60)","v":""},null,null,null,null,{"$f":"IF(契約情報の入力!BK60=\"\",\"\",契約情報の入力!BK60)","v":""},null,null,null,null,{"$f":"IF(契約情報の入力!BP60=\"\",\"\",契約情報の入力!BP60)","v":""},null,null,null,null,0]
[{"$f":"IF(OR($N$13=\"\",$N$11=\"\"),0,IF(OR($N$13=\"不明\",$N$11=\"北海道電力\"),0,IF(AND($N$13=\"休日・平日別\",$N$11=\"中部電力\"),1,0)))","v":0},null,"休日 (kWh)",null,null,null,null,null,null,null,null,null,{"$f":"IF(契約情報の入力!M61=\"\",\"\",契約情報の入力!M61)","v":""},null,null,null,null,{"$f":"IF(契約情報の入力!R61=\"\",\"\",契約情報の入力!R61)","v":""},null,null,null,null,{"$f":"IF(契約情報の入力!W61=\"\",\"\",契約情報の入力!W61)","v":""},null,null,null,null,{"$f":"IF(契約情報の入力!AB61=\"\",\"\",契約情報の入力!AB61)","v":""},null,null,null,null,{"$f":"IF(契約情報の入力!AG61=\"\",\"\",契約情報の入力!AG61)","v":""},null,null,null,null,{"$f":"IF(契約情報の入力!AL61=\"\",\"\",契約情報の入力!AL61)","v":""},null,null,null,null,{"$f":"IF(契約情報の入力!AQ61=\"\",\"\",契約情報の入力!AQ61)","v":""},null,null,null,null,{"$f":"IF(契約情報の入力!AV61=\"\",\"\",契約情報の入力!AV61)","v":""},null,null,null,null,{"$f":"IF(契約情報の入力!BA61=\"\",\"\",契約情報の入力!BA61)","v":""},null,null,null,null,{"$f":"IF(契約情報の入力!BF61=\"\",\"\",契約情報の入力!BF61)","v":""},null,null,null,null,{"$f":"IF(契約情報の入力!BK61=\"\",\"\",契約情報の入力!BK61)","v":""},null,null,null,null,{"$f":"IF(契約情報の入力!BP61=\"\",\"\",契約情報の入力!BP61)","v":""},null,null,null,null,0]
[{"$f":"IF(OR($N$13=\"\",$N$11=\"\"),0,IF(AND($N$13=\"不明\",$N$11=\"北海道電力\"),1,IF(AND($N$13=\"標準\",$N$11=\"北海道電力\"),1,0)))","v":0},null,"全日 (kWh)",null,null,null,null,null,null,null,null,null,{"$f":"IF(契約情報の入力!M62=\"\",\"\",契約情報の入力!M62)","v":""},null,null,null,null,{"$f":"IF(契約情報の入力!R62=\"\",\"\",契約情報の入力!R62)","v":""},null,null,null,null,{"$f":"IF(契約情報の入力!W62=\"\",\"\",契約情報の入力!W62)","v":""},null,null,null,null,{"$f":"IF(契約情報の入力!AB62=\"\",\"\",契約情報の入力!AB62)","v":""},null,null,null,null,{"$f":"IF(契約情報の入力!AG62=\"\",\"\",契約情報の入力!AG62)","v":""},null,null,null,null,{"$f":"IF(契約情報の入力!AL62=\"\",\"\",契約情報の入力!AL62)","v":""},null,null,null,null,{"$f":"IF(契約情報の入力!AQ62=\"\",\"\",契約情報の入力!AQ62)","v":""},null,null,null,null,{"$f":"IF(契約情報の入力!AV62=\"\",\"\",契約情報の入力!AV62)","v":""},null,null,null,null,{"$f":"IF(契約情報の入力!BA62=\"\",\"\",契約情報の入力!BA62)","v":""},null,null,null,null,{"$f":"IF(契約情報の入力!BF62=\"\",\"\",契約情報の入力!BF62)","v":""},null,null,null,null,{"$f":"IF(契約情報の入力!BK62=\"\",\"\",契約情報の入力!BK62)","v":""},null,null,null,null,{"$f":"IF(契約情報の入力!BP62=\"\",\"\",契約情報の入力!BP62)","v":""},null,null,null,null,0]
[{"$f":"IF(OR($N$13=\"\",$N$11=\"\"),0,IF(AND($N$13=\"不明\",$N$11=\"北海道電力\"),0,IF(AND($N$13=\"時間帯別\",$N$11=\"北海道電力\"),1,0)))","v":0},null,"昼間 (kWh)",null,null,null,null,null,null,null,null,null,{"$f":"IF(契約情報の入力!M63=\"\",\"\",契約情報の入力!M63)","v":""},null,null,null,null,{"$f":"IF(契約情報の入力!R63=\"\",\"\",契約情報の入力!R63)","v":""},null,null,null,null,{"$f":"IF(契約情報の入力!W63=\"\",\"\",契約情報の入力!W63)","v":""},null,null,null,null,{"$f":"IF(契約情報の入力!AB63=\"\",\"\",契約情報の入力!AB63)","v":""},null,null,null,null,{"$f":"IF(契約情報の入力!AG63=\"\",\"\",契約情報の入力!AG63)","v":""},null,null,null,null,{"$f":"IF(契約情報の入力!AL63=\"\",\"\",契約情報の入力!AL63)","v":""},null,null,null,null,{"$f":"IF(契約情報の入力!AQ63=\"\",\"\",契約情報の入力!AQ63)","v":""},null,null,null,null,{"$f":"IF(契約情報の入力!AV63=\"\",\"\",契約情報の入力!AV63)","v":""},null,null,null,null,{"$f":"IF(契約情報の入力!BA63=\"\",\"\",契約情報の入力!BA63)","v":""},null,null,null,null,{"$f":"IF(契約情報の入力!BF63=\"\",\"\",契約情報の入力!BF63)","v":""},null,null,null,null,{"$f":"IF(契約情報の入力!BK63=\"\",\"\",契約情報の入力!BK63)","v":""},null,null,null,null,{"$f":"IF(契約情報の入力!BP63=\"\",\"\",契約情報の入力!BP63)","v":""},null,null,null,null,0]
[{"$f":"IF(OR($N$13=\"\",$N$11=\"\"),0,IF(AND($N$13=\"不明\",$N$11=\"北海道電力\"),0,IF(AND($N$13=\"時間帯別\",$N$11=\"北海道電力\"),1,0)))","v":0},null,"夜間 (kWh)",null,null,null,null,null,null,null,null,null,{"$f":"IF(契約情報の入力!M64=\"\",\"\",契約情報の入力!M64)","v":""},null,null,null,null,{"$f":"IF(契約情報の入力!R64=\"\",\"\",契約情報の入力!R64)","v":""},null,null,null,null,{"$f":"IF(契約情報の入力!W64=\"\",\"\",契約情報の入力!W64)","v":""},null,null,null,null,{"$f":"IF(契約情報の入力!AB64=\"\",\"\",契約情報の入力!AB64)","v":""},null,null,null,null,{"$f":"IF(契約情報の入力!AG64=\"\",\"\",契約情報の入力!AG64)","v":""},null,null,null,null,{"$f":"IF(契約情報の入力!AL64=\"\",\"\",契約情報の入力!AL64)","v":""},null,null,null,null,{"$f":"IF(契約情報の入力!AQ64=\"\",\"\",契約情報の入力!AQ64)","v":""},null,null,null,null,{"$f":"IF(契約情報の入力!AV64=\"\",\"\",契約情報の入力!AV64)","v":""},null,null,null,null,{"$f":"IF(契約情報の入力!BA64=\"\",\"\",契約情報の入力!BA64)","v":""},null,null,null,null,{"$f":"IF(契約情報の入力!BF64=\"\",\"\",契約情報の入力!BF64)","v":""},null,null,null,null,{"$f":"IF(契約情報の入力!BK64=\"\",\"\",契約情報の入力!BK64)","v":""},null,null,null,null,{"$f":"IF(契約情報の入力!BP64=\"\",\"\",契約情報の入力!BP64)","v":""},null,null,null,null,0]
[{"$f":"IF(OR($N$13=\"\",$N$11=\"\"),0,IF(AND($N$13=\"不明\",$N$11=\"北海道電力\"),0,IF(AND($N$13=\"休日・平日別\",$N$11=\"北海道電力\"),1,0)))","v":0},null,"平日 (kWh)",null,null,null,null,null,null,null,null,null,{"$f":"IF(契約情報の入力!M65=\"\",\"\",契約情報の入力!M65)","v":""},null,null,null,null,{"$f":"IF(契約情報の入力!R65=\"\",\"\",契約情報の入力!R65)","v":""},null,null,null,null,{"$f":"IF(契約情報の入力!W65=\"\",\"\",契約情報の入力!W65)","v":""},null,null,null,null,{"$f":"IF(契約情報の入力!AB65=\"\",\"\",契約情報の入力!AB65)","v":""},null,null,null,null,{"$f":"IF(契約情報の入力!AG65=\"\",\"\",契約情報の入力!AG65)","v":""},null,null,null,null,{"$f":"IF(契約情報の入力!AL65=\"\",\"\",契約情報の入力!AL65)","v":""},null,null,null,null,{"$f":"IF(契約情報の入力!AQ65=\"\",\"\",契約情報の入力!AQ65)","v":""},null,null,null,null,{"$f":"IF(契約情報の入力!AV65=\"\",\"\",契約情報の入力!AV65)","v":""},null,null,null,null,{"$f":"IF(契約情報の入力!BA65=\"\",\"\",契約情報の入力!BA65)","v":""},null,null,null,null,{"$f":"IF(契約情報の入力!BF65=\"\",\"\",契約情報の入力!BF65)","v":""},null,null,null,null,{"$f":"IF(契約情報の入力!BK65=\"\",\"\",契約情報の入力!BK65)","v":""},null,null,null,null,{"$f":"IF(契約情報の入力!BP65=\"\",\"\",契約情報の入力!BP65)","v":""},null,null,null,null,0]
[{"$f":"IF(OR($N$13=\"\",$N$11=\"\"),0,IF(AND($N$13=\"不明\",$N$11=\"北海道電力\"),0,IF(AND($N$13=\"休日・平日別\",$N$11=\"北海道電力\"),1,0)))","v":0},null,"休日 (kWh)",null,null,null,null,null,null,null,null,null,{"$f":"IF(契約情報の入力!M66=\"\",\"\",契約情報の入力!M66)","v":""},null,null,null,null,{"$f":"IF(契約情報の入力!R66=\"\",\"\",契約情報の入力!R66)","v":""},null,null,null,null,{"$f":"IF(契約情報の入力!W66=\"\",\"\",契約情報の入力!W66)","v":""},null,null,null,null,{"$f":"IF(契約情報の入力!AB66=\"\",\"\",契約情報の入力!AB66)","v":""},null,null,null,null,{"$f":"IF(契約情報の入力!AG66=\"\",\"\",契約情報の入力!AG66)","v":""},null,null,null,null,{"$f":"IF(契約情報の入力!AL66=\"\",\"\",契約情報の入力!AL66)","v":""},null,null,null,null,{"$f":"IF(契約情報の入力!AQ66=\"\",\"\",契約情報の入力!AQ66)","v":""},null,null,null,null,{"$f":"IF(契約情報の入力!AV66=\"\",\"\",契約情報の入力!AV66)","v":""},null,null,null,null,{"$f":"IF(契約情報の入力!BA66=\"\",\"\",契約情報の入力!BA66)","v":""},null,null,null,null,{"$f":"IF(契約情報の入力!BF66=\"\",\"\",契約情報の入力!BF66)","v":""},null,null,null,null,{"$f":"IF(契約情報の入力!BK66=\"\",\"\",契約情報の入力!BK66)","v":""},null,null,null,null,{"$f":"IF(契約情報の入力!BP66=\"\",\"\",契約情報の入力!BP66)","v":""},null,null,null,null,0]
[1,null,"合計 (kWh)",null,null,null,null,null,null,null,null,null,{"$f":"SUM(M32:Q56)","v":0},null,null,null,null,{"$f":"SUM(R32:V56)","v":0},null,null,null,null,{"$f":"SUM(W32:AA56)","v":0},null,null,null,null,{"$f":"SUM(AB32:AF56)","v":0},null,null,null,null,{"$f":"SUM(AG32:AK56)","v":0},null,null,null,null,{"$f":"SUM(AL32:AP56)","v":0},null,null,null,null,{"$f":"SUM(AQ32:AU56)","v":0},null,null,null,null,{"$f":"SUM(AV32:AZ56)","v":0},null,null,null,null,{"$f":"SUM(BA32:BE56)","v":0},null,null,null,null,{"$f":"SUM(BF32:BJ56)","v":0},null,null,null,null,{"$f":"SUM(BK32:BO56)","v":0},null,null,null,null,{"$f":"SUM(BP32:BT56)","v":0},null,null,null,null,0]
[1]
[{"$f":"IF($AK$15=\"あり\",1,0)","v":0},"■ 自家発補給契約 使用電力量"]
[{"$f":"IF($AK$15=\"あり\",1,0)","v":0},null,null,null,null,null,null,null,null,null,null,null,"4月",null,null,null,null,"5月",null,null,null,null,"6月",null,null,null,null,"7月",null,null,null,null,"8月",null,null,null,null,"9月",null,null,null,null,"10月",null,null,null,null,"11月",null,null,null,null,"12月",null,null,null,null,"1月",null,null,null,null,"2月",null,null,null,null,"3月",null,null,null,null,"合計"]
[0,null,"夏季 (定検) (kWh)",null,null,null,null,null,null,null,null,null,{"$f":"IF(契約情報の入力!M71=\"\",\"\",契約情報の入力!M71)","v":""},null,null,null,null,{"$f":"IF(契約情報の入力!R71=\"\",\"\",契約情報の入力!R71)","v":""},null,null,null,null,{"$f":"IF(契約情報の入力!W71=\"\",\"\",契約情報の入力!W71)","v":""},null,null,null,null,{"$f":"IF(契約情報の入力!AB71=\"\",\"\",契約情報の入力!AB71)","v":""},null,null,null,null,{"$f":"IF(契約情報の入力!AG71=\"\",\"\",契約情報の入力!AG71)","v":""},null,null,null,null,{"$f":"IF(契約情報の入力!AL71=\"\",\"\",契約情報の入力!AL71)","v":""},null,null,null,null,{"$f":"IF(契約情報の入力!AQ71=\"\",\"\",契約情報の入力!AQ71)","v":""},null,null,null,null,{"$f":"IF(契約情報の入力!AV71=\"\",\"\",契約情報の入力!AV71)","v":""},null,null,null,null,{"$f":"IF(契約情報の入力!BA71=\"\",\"\",契約情報の入力!BA71)","v":""},null,null,null,null,{"$f":"IF(契約情報の入力!BF71=\"\",\"\",契約情報の入力!BF71)","v":""},null,null,null,null,{"$f":"IF(契約情報の入力!BK71=\"\",\"\",契約情報の入力!BK71)","v":""},null,null,null,null,{"$f":"IF(契約情報の入力!BP71=\"\",\"\",契約情報の入力!BP71)","v":""},null,null,null,null,{"$f":"SUM(M61:BT61)","v":0}]
[0,null,"その他季 (定検) (kWh)",null,null,null,null,null,null,null,null,null,{"$f":"IF(契約情報の入力!M72=\"\",\"\",契約情報の入力!M72)","v":""},null,null,null,null,{"$f":"IF(契約情報の入力!R72=\"\",\"\",契約情報の入力!R72)","v":""},null,null,null,null,{"$f":"IF(契約情報の入力!W72=\"\",\"\",契約情報の入力!W72)","v":""},null,null,null,null,{"$f":"IF(契約情報の入力!AB72=\"\",\"\",契約情報の入力!AB72)","v":""},null,null,null,null,{"$f":"IF(契約情報の入力!AG72=\"\",\"\",契約情報の入力!AG72)","v":""},null,null,null,null,{"$f":"IF(契約情報の入力!AL72=\"\",\"\",契約情報の入力!AL72)","v":""},null,null,null,null,{"$f":"IF(契約情報の入力!AQ72=\"\",\"\",契約情報の入力!AQ72)","v":""},null,null,null,null,{"$f":"IF(契約情報の入力!AV72=\"\",\"\",契約情報の入力!AV72)","v":""},null,null,null,null,{"$f":"IF(契約情報の入力!BA72=\"\",\"\",契約情報の入力!BA72)","v":""},null,null,null,null,{"$f":"IF(契約情報の入力!BF72=\"\",\"\",契約情報の入力!BF72)","v":""},null,null,null,null,{"$f":"IF(契約情報の入力!BK72=\"\",\"\",契約情報の入力!BK72)","v":""},null,null,null,null,{"$f":"IF(契約情報の入力!BP72=\"\",\"\",契約情報の入力!BP72)","v":""},null,null,null,null,{"$f":"SUM(M62:BT62)","v":0}]
[0,null,"夏季 (その他) (kWh)",null,null,null,null,null,null,null,null,null,{"$f":"IF(契約情報の入力!M73=\"\",\"\",契約情報の入力!M73)","v":""},null,null,null,null,{"$f":"IF(契約情報の入力!R73=\"\",\"\",契約情報の入力!R73)","v":""},null,null,null,null,{"$f":"IF(契約情報の入力!W73=\"\",\"\",契約情報の入力!W73)","v":""},null,null,null,null,{"$f":"IF(契約情報の入力!AB73=\"\",\"\",契約情報の入力!AB73)","v":""},null,null,null,null,{"$f":"IF(契約情報の入力!AG73=\"\",\"\",契約情報の入力!AG73)","v":""},null,null,null,null,{"$f":"IF(契約情報の入力!AL73=\"\",\"\",契約情報の入力!AL73)","v":""},null,null,null,null,{"$f":"IF(契約情報の入力!AQ73=\"\",\"\",契約情報の入力!AQ73)","v":""},null,null,null,null,{"$f":"IF(契約情報の入力!AV73=\"\",\"\",契約情報の入力!AV73)","v":""},null,null,null,null,{"$f":"IF(契約情報の入力!BA73=\"\",\"\",契約情報の入力!BA73)","v":""},null,null,null,null,{"$f":"IF(契約情報の入力!BF73=\"\",\"\",契約情報の入力!BF73)","v":""},null,null,null,null,{"$f":"IF(契約情報の入力!BK73=\"\",\"\",契約情報の入力!BK73)","v":""},null,null,null,null,{"$f":"IF(契約情報の入力!BP73=\"\",\"\",契約情報の入力!BP73)","v":""},null,null,null,null,0]
[0,null,"その他季 (その他) (kWh)",null,null,null,null,null,null,null,null,null,{"$f":"IF(契約情報の入力!M74=\"\",\"\",契約情報の入力!M74)","v":""},null,null,null,null,{"$f":"IF(契約情報の入力!R74=\"\",\"\",契約情報の入力!R74)","v":""},null,null,null,null,{"$f":"IF(契約情報の入力!W74=\"\",\"\",契約情報の入力!W74)","v":""},null,null,null,null,{"$f":"IF(契約情報の入力!AB74=\"\",\"\",契約情報の入力!AB74)","v":""},null,null,null,null,{"$f":"IF(契約情報の入力!AG74=\"\",\"\",契約情報の入力!AG74)","v":""},null,null,null,null,{"$f":"IF(契約情報の入力!AL74=\"\",\"\",契約情報の入力!AL74)","v":""},null,null,null,null,{"$f":"IF(契約情報の入力!AQ74=\"\",\"\",契約情報の入力!AQ74)","v":""},null,null,null,null,{"$f":"IF(契約情報の入力!AV74=\"\",\"\",契約情報の入力!AV74)","v":""},null,null,null,null,{"$f":"IF(契約情報の入力!BA74=\"\",\"\",契約情報の入力!BA74)","v":""},null,null,null,null,{"$f":"IF(契約情報の入力!BF74=\"\",\"\",契約情報の入力!BF74)","v":""},null,null,null,null,{"$f":"IF(契約情報の入力!BK74=\"\",\"\",契約情報の入力!BK74)","v":""},null,null,null,null,{"$f":"IF(契約情報の入力!BP74=\"\",\"\",契約情報の入力!BP74)","v":""},null,null,null,null,0]
[0,null,"合計 (kWh)",null,null,null,null,null,null,null,null,null,{"$f":"SUM(M61:Q64)","v":0},null,null,null,null,{"$f":"SUM(R61:V64)","v":0},null,null,null,null,{"$f":"SUM(W61:AA64)","v":0},null,null,null,null,{"$f":"SUM(AB61:AF64)","v":0},null,null,null,null,{"$f":"SUM(AG61:AK64)","v":0},null,null,null,null,{"$f":"SUM(AL61:AP64)","v":0},null,null,null,null,{"$f":"SUM(AQ61:AU64)","v":0},null,null,null,null,{"$f":"SUM(AV61:AZ64)","v":0},null,null,null,null,{"$f":"SUM(BA61:BE64)","v":0},null,null,null,null,{"$f":"SUM(BF61:BJ64)","v":0},null,null,null,null,{"$f":"SUM(BK61:BO64)","v":0},null,null,null,null,{"$f":"SUM(BP61:BT64)","v":0},null,null,null,null,0]
[0]
[1]
[1]
[1]
[]
["V",{"$f":"N7","v":0},{"$f":"N8","v":0},{"$f":"N11","v":0},{"$f":"N12","v":0},{"$f":"N13","v":0},{"$f":"N14","v":0},{"$f":"N15","v":0},{"$f":"AK11","v":"なし"},{"$f":"AK12","v":""},{"$f":"AK13","v":"なし"},{"$f":"AK14","v":""},{"$f":"AK15","v":"なし"},{"$f":"AK16","v":""},{"$f":"BD11","v":"なし"},{"$f":"AW12","v":""},{"$f":"AW13","v":""},{"$f":"N19","v":""},{"$f":"N20","v":""}]
["R","P7","P8","P11","P12","P13","P14","P15","N19","N20","N21","N22","AI19","AI20","AQ11","AK12","AK13","N27","N28"]
["V",{"$f":"M24","v":100},{"$f":"R24","v":100},{"$f":"W24","v":100},{"$f":"AB24","v":100},{"$f":"AG24","v":100},{"$f":"AL24","v":100},{"$f":"AQ24","v":100},{"$f":"AV24","v":100},{"$f":"BA24","v":100},{"$f":"BF24","v":100},{"$f":"BK24","v":100},{"$f":"BP24","v":100}]
["R","M32","R32","W32","AB32","AG32","AL32","AQ32","AV32","BA32","BF32","BK32","BP32"]
["V",{"$f":"M28","v":""},{"$f":"R28","v":""},{"$f":"W28","v":""},{"$f":"AB28","v":""},{"$f":"AG28","v":""},{"$f":"AL28","v":""},{"$f":"AQ28","v":""},{"$f":"AV28","v":""},{"$f":"BA28","v":""},{"$f":"BF28","v":""},{"$f":"BK28","v":""},{"$f":"BP28","v":""}]
["R","M37","R37","W37","AB37","AG37","AL37","AQ37","AV37","BA37","BF37","BK37","BP37"]
["V",{"$f":"M32","v":""},{"$f":"R32","v":""},{"$f":"W32","v":""},{"$f":"AB32","v":""},{"$f":"AG32","v":""},{"$f":"AL32","v":""},{"$f":"AQ32","v":""},{"$f":"AV32","v":""},{"$f":"BA32","v":""},{"$f":"BF32","v":""},{"$f":"BK32","v":""},{"$f":"BP32","v":""},{"$f":"M33","v":""},{"$f":"R33","v":""},{"$f":"W33","v":""},{"$f":"AB33","v":""},{"$f":"AG33","v":""},{"$f":"AL33","v":""},{"$f":"AQ33","v":""},{"$f":"AV33","v":""},{"$f":"BA33","v":""},{"$f":"BF33","v":""},{"$f":"BK33","v":""},{"$f":"BP33","v":""}]
["R","M42","R42","W42","AB42","AG42","AL42","AQ42","AV42","BA42","BF42","BK42","BP42","M43","R43","W43","AB43","AG43","AL43","AQ43","AV43","BA43","BF43","BK43","BP43"]
["V",{"$f":"M34","v":""},{"$f":"R34","v":""},{"$f":"W34","v":""},{"$f":"AB34","v":""},{"$f":"AG34","v":""},{"$f":"AL34","v":""},{"$f":"AQ34","v":""},{"$f":"AV34","v":""},{"$f":"BA34","v":""},{"$f":"BF34","v":""},{"$f":"BK34","v":""},{"$f":"BP34","v":""},{"$f":"M35","v":""},{"$f":"R35","v":""},{"$f":"W35","v":""},{"$f":"AB35","v":""},{"$f":"AG35","v":""},{"$f":"AL35","v":""},{"$f":"AQ35","v":""},{"$f":"AV35","v":""},{"$f":"BA35","v":""},{"$f":"BF35","v":""},{"$f":"BK35","v":""},{"$f":"BP35","v":""},{"$f":"M36","v":""},{"$f":"R36","v":""},{"$f":"W36","v":""},{"$f":"AB36","v":""},{"$f":"AG36","v":""},{"$f":"AL36","v":""},{"$f":"AQ36","v":""},{"$f":"AV36","v":""},{"$f":"BA36","v":""},{"$f":"BF36","v":""},{"$f":"BK36","v":""},{"$f":"BP36","v":""},{"$f":"M37","v":""},{"$f":"R37","v":""},{"$f":"W37","v":""},{"$f":"AB37","v":""},{"$f":"AG37","v":""},{"$f":"AL37","v":""},{"$f":"AQ37","v":""},{"$f":"AV37","v":""},{"$f":"BA37","v":""},{"$f":"BF37","v":""},{"$f":"BK37","v":""},{"$f":"BP37","v":""}]
["R","M44","R44","W44","AB44","AG44","AL44","AQ44","AV44","BA44","BF44","BK44","BP44","M45","R45","W45","AB45","AG45","AL45","AQ45","AV45","BA45","BF45","BK45","BP45","M46","R46","W46","AB46","AG46","AL46","AQ46","AV46","BA46","BF46","BK46","BP46","M47","R47","W47","AB47","AG47","AL47","AQ47","AV47","BA47","BF47","BK47","BP47"]
["V",{"$f":"M38","v":""},{"$f":"R38","v":""},{"$f":"W38","v":""},{"$f":"AB38","v":""},{"$f":"AG38","v":""},{"$f":"AL38","v":""},{"$f":"AQ38","v":""},{"$f":"AV38","v":""},{"$f":"BA38","v":""},{"$f":"BF38","v":""},{"$f":"BK38","v":""},{"$f":"BP38","v":""},{"$f":"M39","v":""},{"$f":"R39","v":""},{"$f":"W39","v":""},{"$f":"AB39","v":""},{"$f":"AG39","v":""},{"$f":"AL39","v":""},{"$f":"AQ39","v":""},{"$f":"AV39","v":""},{"$f":"BA39","v":""},{"$f":"BF39","v":""},{"$f":"BK39","v":""},{"$f":"BP39","v":""},{"$f":"M40","v":""},{"$f":"R40","v":""},{"$f":"W40","v":""},{"$f":"AB40","v":""},{"$f":"AG40","v":""},{"$f":"AL40","v":""},{"$f":"AQ40","v":""},{"$f":"AV40","v":""},{"$f":"BA40","v":""},{"$f":"BF40","v":""},{"$f":"BK40","v":""},{"$f":"BP40","v":""}]
["R","M48","R48","W48","AB48","AG48","AL48","AQ48","AV48","BA48","BF48","BK48","BP48","M49","R49","W49","AB49","AG49","AL49","AQ49","AV49","BA49","BF49","BK49","BP49","M50","R50","W50","AB50","AG50","AL50","AQ50","AV50","BA50","BF50","BK50","BP50"]
["V",{"$f":"M41","v":""},{"$f":"R41","v":""},{"$f":"W41","v":""},{"$f":"AB41","v":""},{"$f":"AG41","v":""},{"$f":"AL41","v":""},{"$f":"AQ41","v":""},{"$f":"AV41","v":""},{"$f":"BA41","v":""},{"$f":"BF41","v":""},{"$f":"BK41","v":""},{"$f":"BP41","v":""},{"$f":"M42","v":""},{"$f":"R42","v":""},{"$f":"W42","v":""},{"$f":"AB42","v":""},{"$f":"AG42","v":""},{"$f":"AL42","v":""},{"$f":"AQ42","v":""},{"$f":"AV42","v":""},{"$f":"BA42","v":""},{"$f":"BF42","v":""},{"$f":"BK42","v":""},{"$f":"BP42","v":""},{"$f":"M43","v":""},{"$f":"R43","v":""},{"$f":"W43","v":""},{"$f":"AB43","v":""},{"$f":"AG43","v":""},{"$f":"AL43","v":""},{"$f":"AQ43","v":""},{"$f":"AV43","v":""},{"$f":"BA43","v":""},{"$f":"BF43","v":""},{"$f":"BK43","v":""},{"$f":"BP43","v":""},{"$f":"M44","v":""},{"$f":"R44","v":""},{"$f":"W44","v":""},{"$f":"AB44","v":""},{"$f":"AG44","v":""},{"$f":"AL44","v":""},{"$f":"AQ44","v":""},{"$f":"AV44","v":""},{"$f":"BA44","v":""},{"$f":"BF44","v":""},{"$f":"BK44","v":""},{"$f":"BP44","v":""}]
["R","M51","R51","W51","AB51","AG51","AL51","AQ51","AV51","BA51","BF51","BK51","BP51","M52","R52","W52","AB52","AG52","AL52","AQ52","AV52","BA52","BF52","BK52","BP52","M53","R53","W53","AB53","AG53","AL53","AQ53","AV53","BA53","BF53","BK53","BP53","M54","R54","W54","AB54","AG54","AL54","AQ54","AV54","BA54","BF54","BK54","BP54"]
["V",{"$f":"M45","v":""},{"$f":"R45","v":""},{"$f":"W45","v":""},{"$f":"AB45","v":""},{"$f":"AG45","v":""},{"$f":"AL45","v":""},{"$f":"AQ45","v":""},{"$f":"AV45","v":""},{"$f":"BA45","v":""},{"$f":"BF45","v":""},{"$f":"BK45","v":""},{"$f":"BP45","v":""},{"$f":"M46","v":""},{"$f":"R46","v":""},{"$f":"W46","v":""},{"$f":"AB46","v":""},{"$f":"AG46","v":""},{"$f":"AL46","v":""},{"$f":"AQ46","v":""},{"$f":"AV46","v":""},{"$f":"BA46","v":""},{"$f":"BF46","v":""},{"$f":"BK46","v":""},{"$f":"BP46","v":""},{"$f":"M47","v":""},{"$f":"R47","v":""},{"$f":"W47","v":""},{"$f":"AB47","v":""},{"$f":"AG47","v":""},{"$f":"AL47","v":""},{"$f":"AQ47","v":""},{"$f":"AV47","v":""},{"$f":"BA47","v":""},{"$f":"BF47","v":""},{"$f":"BK47","v":""},{"$f":"BP47","v":""},{"$f":"M48","v":""},{"$f":"R48","v":""},{"$f":"W48","v":""},{"$f":"AB48","v":""},{"$f":"AG48","v":""},{"$f":"AL48","v":""},{"$f":"AQ48","v":""},{"$f":"AV48","v":""},{"$f":"BA48","v":""},{"$f":"BF48","v":""},{"$f":"BK48","v":""},{"$f":"BP48","v":""}]
["R","M55","R55","W55","AB55","AG55","AL55","AQ55","AV55","BA55","BF55","BK55","BP55","M56","R56","W56","AB56","AG56","AL56","AQ56","AV56","BA56","BF56","BK56","BP56","M57","R57","W57","AB57","AG57","AL57","AQ57","AV57","BA57","BF57","BK57","BP57","M58","R58","W58","AB58","AG58","AL58","AQ58","AV58","BA58","BF58","BK58","BP58"]
["V",{"$f":"M49","v":""},{"$f":"R49","v":""},{"$f":"W49","v":""},{"$f":"AB49","v":""},{"$f":"AG49","v":""},{"$f":"AL49","v":""},{"$f":"AQ49","v":""},{"$f":"AV49","v":""},{"$f":"BA49","v":""},{"$f":"BF49","v":""},{"$f":"BK49","v":""},{"$f":"BP49","v":""},{"$f":"M50","v":""},{"$f":"R50","v":""},{"$f":"W50","v":""},{"$f":"AB50","v":""},{"$f":"AG50","v":""},{"$f":"AL50","v":""},{"$f":"AQ50","v":""},{"$f":"AV50","v":""},{"$f":"BA50","v":""},{"$f":"BF50","v":""},{"$f":"BK50","v":""},{"$f":"BP50","v":""},{"$f":"M51","v":""},{"$f":"R51","v":""},{"$f":"W51","v":""},{"$f":"AB51","v":""},{"$f":"AG51","v":""},{"$f":"AL51","v":""},{"$f":"AQ51","v":""},{"$f":"AV51","v":""},{"$f":"BA51","v":""},{"$f":"BF51","v":""},{"$f":"BK51","v":""},{"$f":"BP51","v":""}]
["R","M59","R59","W59","AB59","AG59","AL59","AQ59","AV59","BA59","BF59","BK59","BP59","M60","R60","W60","AB60","AG60","AL60","AQ60","AV60","BA60","BF60","BK60","BP60","M61","R61","W61","AB61","AG61","AL61","AQ61","AV61","BA61","BF61","BK61","BP61"]
["V",{"$f":"M52","v":""},{"$f":"R52","v":""},{"$f":"W52","v":""},{"$f":"AB52","v":""},{"$f":"AG52","v":""},{"$f":"AL52","v":""},{"$f":"AQ52","v":""},{"$f":"AV52","v":""},{"$f":"BA52","v":""},{"$f":"BF52","v":""},{"$f":"BK52","v":""},{"$f":"BP52","v":""}]
["R","M62","R62","W62","AB62","AG62","AL62","AQ62","AV62","BA62","BF62","BK62","BP62"]
["V",{"$f":"M53","v":""},{"$f":"R53","v":""},{"$f":"W53","v":""},{"$f":"AB53","v":""},{"$f":"AG53","v":""},{"$f":"AL53","v":""},{"$f":"AQ53","v":""},{"$f":"AV53","v":""},{"$f":"BA53","v":""},{"$f":"BF53","v":""},{"$f":"BK53","v":""},{"$f":"BP53","v":""},{"$f":"M54","v":""},{"$f":"R54","v":""},{"$f":"W54","v":""},{"$f":"AB54","v":""},{"$f":"AG54","v":""},{"$f":"AL54","v":""},{"$f":"AQ54","v":""},{"$f":"AV54","v":""},{"$f":"BA54","v":""},{"$f":"BF54","v":""},{"$f":"BK54","v":""},{"$f":"BP54","v":""}]
["R","M63","R63","W63","AB63","AG63","AL63","AQ63","AV63","BA63","BF63","BK63","BP63","M64","R64","W64","AB64","AG64","AL64","AQ64","AV64","BA64","BF64","BK64","BP64"]
["V",{"$f":"M55","v":""},{"$f":"R55","v":""},{"$f":"W55","v":""},{"$f":"AB55","v":""},{"$f":"AG55","v":""},{"$f":"AL55","v":""},{"$f":"AQ55","v":""},{"$f":"AV55","v":""},{"$f":"BA55","v":""},{"$f":"BF55","v":""},{"$f":"BK55","v":""},{"$f":"BP55","v":""},{"$f":"M56","v":""},{"$f":"R56","v":""},{"$f":"W56","v":""},{"$f":"AB56","v":""},{"$f":"AG56","v":""},{"$f":"AL56","v":""},{"$f":"AQ56","v":""},{"$f":"AV56","v":""},{"$f":"BA56","v":""},{"$f":"BF56","v":""},{"$f":"BK56","v":""},{"$f":"BP56","v":""}]
["R","M65","R65","W65","AB65","AG65","AL65","AQ65","AV65","BA65","BF65","BK65","BP65","M66","R66","W66","AB66","AG66","AL66","AQ66","AV66","BA66","BF66","BK66","BP66"]
["V",{"$f":"M61","v":""},{"$f":"R61","v":""},{"$f":"W61","v":""},{"$f":"AB61","v":""},{"$f":"AG61","v":""},{"$f":"AL61","v":""},{"$f":"AQ61","v":""},{"$f":"AV61","v":""},{"$f":"BA61","v":""},{"$f":"BF61","v":""},{"$f":"BK61","v":""},{"$f":"BP61","v":""},{"$f":"M62","v":""},{"$f":"R62","v":""},{"$f":"W62","v":""},{"$f":"AB62","v":""},{"$f":"AG62","v":""},{"$f":"AL62","v":""},{"$f":"AQ62","v":""},{"$f":"AV62","v":""},{"$f":"BA62","v":""},{"$f":"BF62","v":""},{"$f":"BK62","v":""},{"$f":"BP62","v":""}]
["R","M71","R71","W71","AB71","AG71","AL71","AQ71","AV71","BA71","BF71","BK71","BP71","M72","R72","W72","AB72","AG72","AL72","AQ72","AV72","BA72","BF72","BK72","BP72"]
["V",{"$f":"M63","v":""},{"$f":"R63","v":""},{"$f":"W63","v":""},{"$f":"AB63","v":""},{"$f":"AG63","v":""},{"$f":"AL63","v":""},{"$f":"AQ63","v":""},{"$f":"AV63","v":""},{"$f":"BA63","v":""},{"$f":"BF63","v":""},{"$f":"BK63","v":""},{"$f":"BP63","v":""},{"$f":"M64","v":""},{"$f":"R64","v":""},{"$f":"W64","v":""},{"$f":"AB64","v":""},{"$f":"AG64","v":""},{"$f":"AL64","v":""},{"$f":"AQ64","v":""},{"$f":"AV64","v":""},{"$f":"BA64","v":""},{"$f":"BF64","v":""},{"$f":"BK64","v":""},{"$f":"BP64","v":""}]
["R","M73","R73","W73","AB73","AG73","AL73","AQ73","AV73","BA73","BF73","BK73","BP73","M74","R74","W74","AB74","AG74","AL74","AQ74","AV74","BA74","BF74","BK74","BP74"]

{"sheet":"帳票リスト","index":4,"n_rows":26,"n_cols":30,"rows_kept":26,"cut":false,"hidden":true,"merged":[[5,17,5,19],[7,17,7,19],[1,8,1,9]]}
[]
[null,"電力使用状況調査票 管理メニュー (帳票リスト)",null,null,null,null,null,"出力設定","個別施設"]
[]
[null,null,null,null,null,null,null,null,null,null,null,null,null,null,null,null,"ひな形"]
[null,null,null,null,null,null,null,null,null,null,null,null,null,null,null,null,"需要場所名称","需要場所住所",null,null,"エリア","受電電圧(kV)","契約電力(kW)","予備電力","メニュー名","契約種別系統","自家補有無","負荷率"]
[null,null,null,null,null,null,null,null,null,null,null,null,null,null,null,null,null,null,null,null,null,null,null,null,null,null,null,{"$f":"AD20/W6/(24*366)","v":{"$error":"#DIV/0!"}}]
[null,null,null,null,null,null,null,null,null,null,null,null,null,null,null,null,"提案パターン","割引名称",null,null,"変更前の契約電力","契約変更日"]
[]
[null,null,null,null,null,null,null,null,null,null,null,null,null,null,null,null,null,"4月","5月","6月","7月","8月","9月","10月","11月","12月","1月","2月","3月","合計／最大"]
[null,null,null,null,null,null,null,null,null,null,null,null,null,null,null,null,"各月の最大使用電力(kW)",null,null,null,null,null,null,null,null,null,null,null,null,{"$f":"MAX(R10:AC10)","v":0}]
[null,null,null,null,null,null,null,null,null,null,null,null,null,null,null,null,"力率(%)"]
[null,null,null,null,null,null,null,null,null,null,null,null,null,null,null,null,"契約電力(kW)"]
[null,null,null,null,null,null,null,null,null,null,null,null,null,null,null,null,"自家補(kW)"]
[null,null,null,null,null,null,null,null,null,null,null,null,null,null,null,null,"予備線(kW)"]
[null,null,null,null,null,null,null,null,null,null,null,null,null,null,null,null,"予備電源(kW)"]
[null,null,null,null,null,null,null,null,null,null,null,null,null,null,null,null,"月別使用電力量1",null,null,null,null,null,null,null,null,null,null,null,null,{"$f":"SUM(R16:AC16)","v":0}]
[null,null,null,null,null,null,null,null,null,null,null,null,null,null,null,null,"月別使用電力量2",null,null,null,null,null,null,null,null,null,null,null,null,{"$f":"SUM(R17:AC17)","v":0}]
[null,null,null,null,null,null,null,null,null,null,null,null,null,null,null,null,"月別使用電力量3",null,null,null,null,null,null,null,null,null,null,null,null,0]
[null,null,null,null,null,null,null,null,null,null,null,null,null,null,null,null,"月別使用電力量4",null,null,null,null,null,null,null,null,null,null,null,null,0]
[null,null,null,null,null,null,null,null,null,null,null,null,null,null,null,null,"月別使用電力量合計(kWh)",{"$f":"SUM(R16:R19)","v":0},{"$f":"SUM(S16:S19)","v":0},0,0,0,0,0,0,0,0,0,0,0]
[null,null,null,null,null,null,null,null,null,null,null,null,null,null,null,null,"夏季 (定検) (kWh)",null,null,null,null,null,null,null,null,null,null,null,null,0]
[null,null,null,null,null,null,null,null,null,null,null,null,null,null,null,null,"その他季 (定検) (kWh)",null,null,null,null,null,null,null,null,null,null,null,null,0]
[null,null,null,null,null,null,null,null,null,null,null,null,null,null,null,null,"夏季 (その他) (kWh)",null,null,null,null,null,null,null,null,null,null,null,null,0]
[null,null,null,null,null,null,null,null,null,null,null,null,null,null,null,null,"その他季 (その他) (kWh)",null,null,null,null,null,null,null,null,null,null,null,null,0]
[null,null,null,null,null,null,null,null,null,null,null,null,null,null,null,null,"自家補使用電力量合計(kWh)",{"$f":"SUM(R21:R24)","v":0},{"$f":"SUM(S21:S24)","v":0},{"$f":"SUM(T21:T24)","v":0},{"$f":"SUM(U21:U24)","v":0},{"$f":"SUM(V21:V24)","v":0},{"$f":"SUM(W21:W24)","v":0},{"$f":"SUM(X21:X24)","v":0},{"$f":"SUM(Y21:Y24)","v":0},{"$f":"SUM(Z21:Z24)","v":0},{"$f":"SUM(AA21:AA24)","v":0},{"$f":"SUM(AB21:AB24)","v":0},{"$f":"SUM(AC21:AC24)","v":0},{"$f":"SUM(AD21:AD24)","v":0}]
[null,null,null,null,null,null,null,null,null,null,null,null,null,null,null,null,"その他割引(円)"]

{"sheet":"CSV_WORK","index":5,"n_rows":1,"n_cols":193,"rows_kept":1,"cut":false,"hidden":true,"merged":[]}
["提案パターン","需要場所名称","需要場所住所","エリア","受電電圧","契約電力","予備電力","メニュー名","契約種別系統","自家補有無","割引名称","変更前の契約電力","契約変更日","各月の最大使用電力_4月","各月の最大使用電力_5月","各月の最大使用電力_6月","各月の最大使用電力_7月","各月の最大使用電力_8月","各月の最大使用電力_9月","各月の最大使用電力_10月","各月の最大使用電力_11月","各月の最大使用電力_12月","各月の最大使用電力_1月","各月の最大使用電力_2月","各月の最大使用電力_3月","力率_4月","力率_5月","力率_6月","力率_7月","力率_8月","力率_9月","力率_10月","力率_11月","力率_12月","力率_1月","力率_2月","力率_3月","契約電力_4月","契約電力_5月","契約電力_6月","契約電力_7月","契約電力_8月","契約電力_9月","契約電力_10月","契約電力_11月","契約電力_12月","契約電力_1月","契約電力_2月","契約電力_3月","自家補_4月","自家補_5月","自家補_6月","自家補_7月","自家補_8月","自家補_9月","自家補_10月","自家補_11月","自家補_12月","自家補_1月","自家補_2月","自家補_3月","予備線_4月","予備線_5月","予備線_6月","予備線_7月","予備線_8月","予備線_9月","予備線_10月","予備線_11月","予備線_12月","予備線_1月","予備線_2月","予備線_3月","予備電源_4月","予備電源_5月","予備電源_6月","予備電源_7月","予備電源_8月","予備電源_9月","予備電源_10月","予備電源_11月","予備電源_12月","予備電源_1月","予備電源_2月","予備電源_3月","月別使用電力量1_4月","月別使用電力量1_5月","月別使用電力量1_6月","月別使用電力量1_7月","月別使用電力量1_8月","月別使用電力量1_9月","月別使用電力量1_10月","月別使用電力量1_11月","月別使用電力量1_12月","月別使用電力量1_1月","月別使用電力量1_2月","月別使用電力量1_3月","月別使用電力量2_4月","月別使用電力量2_5月","月別使用電力量2_6月","月別使用電力量2_7月","月別使用電力量2_8月","月別使用電力量2_9月","月別使用電力量2_10月","月別使用電力量2_11月","月別使用電力量2_12月","月別使用電力量2_1月","月別使用電力量2_2月","月別使用電力量2_3月","月別使用電力量3_4月","月別使用電力量3_5月","月別使用電力量3_6月","月別使用電力量3_7月","月別使用電力量3_8月","月別使用電力量3_9月","月別使用電力量3_10月","月別使用電力量3_11月","月別使用電力量3_12月","月別使用電力量3_1月","月別使用電力量3_2月","月別使用電力量3_3月","月別使用電力量4_4月","月別使用電力量4_5月","月別使用電力量4_6月","月別使用電力量4_7月","月別使用電力量4_8月","月別使用電力量4_9月","月別使用電力量4_10月","月別使用電力量4_11月","月別使用電力量4_12月","月別使用電力量4_1月","月別使用電力量4_2月","月別使用電力量4_3月","自家補_夏季_定検_4月","自家補_夏季_定検_5月","自家補_夏季_定検_6月","自家補_夏季_定検_7月","自家補_夏季_定検_8月","自家補_夏季_定検_9月","自家補_夏季_定検_10月","自家補_夏季_定検_11月","自家補_夏季_定検_12月","自家補_夏季_定検_1月","自家補_夏季_定検_2月","自家補_夏季_定検_3月","自家補_その他季_定検_4月","自家補_その他季_定検_5月","自家補_その他季_定検_6月","自家補_その他季_定検_7月","自家補_その他季_定検_8月","自家補_その他季_定検_9月","自家補_その他季_定検_10月","自家補_その他季_定検_11月","自家補_その他季_定検_12月","自家補_その他季_定検_1月","自家補_その他季_定検_2月","自家補_その他季_定検_3月","自家補_夏季_その他_4月","自家補_夏季_その他_5月","自家補_夏季_その他_6月","自家補_夏季_その他_7月","自家補_夏季_その他_8月","自家補_夏季_その他_9月","自家補_夏季_その他_10月","自家補_夏季_その他_11月","自家補_夏季_その他_12月","自家補_夏季_その他_1月","自家補_夏季_その他_2月","自家補_夏季_その他_3月","自家補_その他季_その他_4月","自家補_その他季_その他_5月","自家補_その他季_その他_6月","自家補_その他季_その他_7月","自家補_その他季_その他_8月","自家補_その他季_その他_9月","自家補_その他季_その他_10月","自家補_その他季_その他_11月","自家補_その他季_その他_12月","自家補_その他季_その他_1月","自家補_その他季_その他_2月","自家補_その他季_その他_3月","その他割引_その他_4月","その他割引_その他_5月","その他割引_その他_6月","その他割引_その他_7月","その他割引_その他_8月","その他割引_その他_9月","その他割引_その他_10月","その他割引_その他_11月","その他割引_その他_12月","その他割引_その他_1月","その他割引_その他_2月","その他割引_その他_3月"]

{"sheet":"入力規則マスタ","index":6,"n_rows":31,"n_cols":6,"rows_kept":31,"cut":false,"hidden":true,"merged":[]}
["エリア","電力量区分","受電電圧","有無","パターン","出力設定"]
["北海道電力","標準",6,"あり","Ａ","個別施設"]
["東北電力","時間帯別",20,"なし","Ｂ","合算"]
["東京電力","休日・平日別",30,null,"Ｃ"]
["中部電力","不明",60,null,"Ｄ"]
["北陸電力",null,70,null,"Ｅ"]
["関西電力",null,120,null,"Ｆ"]
["中国電力",null,140,null,"Ｇ"]
["四国電力",null,null,null,"Ｈ"]
["九州電力",null,null,null,"Ｉ"]
[null,null,null,null,"Ｊ"]
[null,null,null,null,"Ｋ"]
[null,null,null,null,"Ｌ"]
[null,null,null,null,"Ｍ"]
[null,null,null,null,"Ｎ"]
[null,null,null,null,"Ｏ"]
[null,null,null,null,"Ｐ"]
[null,null,null,null,"Ｑ"]
[null,null,null,null,"Ｒ"]
[null,null,null,null,"Ｓ"]
[null,null,null,null,"Ｔ"]
[null,null,null,null,"Ｕ"]
[null,null,null,null,"Ｖ"]
[null,null,null,null,"Ｗ"]
[null,null,null,null,"Ｘ"]
[null,null,null,null,"Ｙ"]
[null,null,null,null,"Ｚ"]
[null,null,null,null,"ＡＡ"]
[null,null,null,null,"ＡＢ"]
[null,null,null,null,"ＡＣ"]
[null,null,null,null,"ＡＤ"]

{"sheet":"Working","index":7,"n_rows":0,"n_cols":0,"rows_kept":0,"cut":false,"hidden":true,"merged":[]}

{"sheet":"→","index":8,"n_rows":0,"n_cols":0,"rows_kept":0,"cut":false,"hidden":true,"merged":[]}